BEGIN:VCALENDAR
VERSION:2.0
PRODID:-//Beads &amp; Needs - ECPv6.15.0.1//NONSGML v1.0//EN
CALSCALE:GREGORIAN
METHOD:PUBLISH
X-WR-CALNAME:Beads &amp; Needs
X-ORIGINAL-URL:https://beadsandneeds.com
X-WR-CALDESC:Events for Beads &amp; Needs
REFRESH-INTERVAL;VALUE=DURATION:PT1H
X-Robots-Tag:noindex
X-PUBLISHED-TTL:PT1H
BEGIN:VTIMEZONE
TZID:America/Denver
BEGIN:DAYLIGHT
TZOFFSETFROM:-0700
TZOFFSETTO:-0600
TZNAME:MDT
DTSTART:20230312T090000
END:DAYLIGHT
BEGIN:STANDARD
TZOFFSETFROM:-0600
TZOFFSETTO:-0700
TZNAME:MST
DTSTART:20231105T080000
END:STANDARD
END:VTIMEZONE
BEGIN:VEVENT
DTSTART;TZID=America/Denver:20230909T103000
DTEND;TZID=America/Denver:20230909T173000
DTSTAMP:20260419T060739
CREATED:20230827T205648Z
LAST-MODIFIED:20230827T210019Z
UID:1760-1694255400-1694280600@beadsandneeds.com
SUMMARY:France Bracelet by Yuliya Abelovich
DESCRIPTION:Date: 9/9 \nTime: 10:30AM – 5:30PM \nThe France bracelet features Samos par Puca beads framed by StormDuos. Don’t be intimidated by how fancy it is\, this is a beginner project!  We will also make the matching pendant if time allows. \nDifficulty Level: Beginner \nInstructor: Jeanine \nCost: $25 plus materials \nMaterials: \nStorm Duos – 4 pieces per link in bracelet \nDropDuos – 2 pieces per link \nSamos par Puca – 1 piece per link \n15/0 seed beads \n3mm pearls or round beads – 2 pieces per link \nYou may want extra shaped beads for the matching pendant\, if time allows \n6lb Fireline \nClasp \nJump rings \nTools: \nPliers \nNeedle
URL:https://beadsandneeds.com/event/france-bracelet-by-yuliya-abelovich/
CATEGORIES:Classes
ATTACH;FMTTYPE=image/jpeg:https://beadsandneeds.com/wp-content/uploads/2023/08/france-2-scaled.jpg
END:VEVENT
END:VCALENDAR