BEGIN:VCALENDAR
VERSION:2.0
PRODID:-//Beads &amp; Needs - ECPv6.15.0.1//NONSGML v1.0//EN
CALSCALE:GREGORIAN
METHOD:PUBLISH
X-WR-CALNAME:Beads &amp; Needs
X-ORIGINAL-URL:https://beadsandneeds.com
X-WR-CALDESC:Events for Beads &amp; Needs
REFRESH-INTERVAL;VALUE=DURATION:PT1H
X-Robots-Tag:noindex
X-PUBLISHED-TTL:PT1H
BEGIN:VTIMEZONE
TZID:America/Denver
BEGIN:DAYLIGHT
TZOFFSETFROM:-0700
TZOFFSETTO:-0600
TZNAME:MDT
DTSTART:20220313T090000
END:DAYLIGHT
BEGIN:STANDARD
TZOFFSETFROM:-0600
TZOFFSETTO:-0700
TZNAME:MST
DTSTART:20221106T080000
END:STANDARD
END:VTIMEZONE
BEGIN:VEVENT
DTSTART;TZID=America/Denver:20220602T080000
DTEND;TZID=America/Denver:20220602T170000
DTSTAMP:20260422T070425
CREATED:20211215T000528Z
LAST-MODIFIED:20211215T000528Z
UID:1177-1654156800-1654189200@beadsandneeds.com
SUMMARY:Bargain Day in June!
DESCRIPTION:The first Thursday of each month. \n20% off\n(excluding classes and consignments)
URL:https://beadsandneeds.com/event/bargain-day-in-june/
END:VEVENT
END:VCALENDAR