BEGIN:VCALENDAR
VERSION:2.0
PRODID:-//Beads &amp; Needs - ECPv6.15.0.1//NONSGML v1.0//EN
CALSCALE:GREGORIAN
METHOD:PUBLISH
X-WR-CALNAME:Beads &amp; Needs
X-ORIGINAL-URL:https://beadsandneeds.com
X-WR-CALDESC:Events for Beads &amp; Needs
REFRESH-INTERVAL;VALUE=DURATION:PT1H
X-Robots-Tag:noindex
X-PUBLISHED-TTL:PT1H
BEGIN:VTIMEZONE
TZID:America/Denver
BEGIN:DAYLIGHT
TZOFFSETFROM:-0700
TZOFFSETTO:-0600
TZNAME:MDT
DTSTART:20230312T090000
END:DAYLIGHT
BEGIN:STANDARD
TZOFFSETFROM:-0600
TZOFFSETTO:-0700
TZNAME:MST
DTSTART:20231105T080000
END:STANDARD
END:VTIMEZONE
BEGIN:VEVENT
DTSTART;TZID=America/Denver:20230415T103000
DTEND;TZID=America/Denver:20230416T180000
DTSTAMP:20260421T140644
CREATED:20230323T215923Z
LAST-MODIFIED:20230323T215944Z
UID:1636-1681554600-1681668000@beadsandneeds.com
SUMMARY:Amunet Full Set by Michelle Snyder
DESCRIPTION:This is a 2-day workshop where we will be making a set -Pendant\, Earrings\, & Bracelet. \nSaturday\, April 15th & Sunday\, April 16th \nInstructors: Jeannine & Terry\nCost: $50 (covers both days) + Materials \nMaterials List:\n2 Glass Drops\n2 Earwires\nBail\nJump Rings\n4/5 Loop Clasp\n18mm Cabochon\nSeed Beads – 15˚\, 11˚\, & 8˚\nDelicas\n205 – 4mm Firepolish\n60 – 3mm Firepolish\nOne G Thread\, or 6lb Fireline\nSize 11 Beading Needle
URL:https://beadsandneeds.com/event/amunet-full-set-by-michelle-snyder/
LOCATION:Beads & Needs\, Store Location 5154 Centennial Blvd\, Colorado Springs\, CO\, 80919\, United States
CATEGORIES:Classes,Home Page Feature
END:VEVENT
END:VCALENDAR