BEGIN:VCALENDAR
VERSION:2.0
PRODID:-//Beads &amp; Needs - ECPv6.15.0.1//NONSGML v1.0//EN
CALSCALE:GREGORIAN
METHOD:PUBLISH
X-WR-CALNAME:Beads &amp; Needs
X-ORIGINAL-URL:https://beadsandneeds.com
X-WR-CALDESC:Events for Beads &amp; Needs
REFRESH-INTERVAL;VALUE=DURATION:PT1H
X-Robots-Tag:noindex
X-PUBLISHED-TTL:PT1H
BEGIN:VTIMEZONE
TZID:America/Denver
BEGIN:DAYLIGHT
TZOFFSETFROM:-0700
TZOFFSETTO:-0600
TZNAME:MDT
DTSTART:20230312T090000
END:DAYLIGHT
BEGIN:STANDARD
TZOFFSETFROM:-0600
TZOFFSETTO:-0700
TZNAME:MST
DTSTART:20231105T080000
END:STANDARD
END:VTIMEZONE
BEGIN:VEVENT
DTSTART;TZID=America/Denver:20230708T103000
DTEND;TZID=America/Denver:20230708T150000
DTSTAMP:20260421T090821
CREATED:20230704T231848Z
LAST-MODIFIED:20230704T231848Z
UID:1718-1688812200-1688828400@beadsandneeds.com
SUMMARY:Butterfly
DESCRIPTION:Wire Butterfly\nDifficulty: Beginner Friendly\nInstructor: Darcie\nCost: $35 -Wire included\nTime: 10:30-3:00 \nMaterials:\nSize 11° Seed Beads in 3 different colors
URL:https://beadsandneeds.com/event/butterfly/
CATEGORIES:Classes
ATTACH;FMTTYPE=image/jpeg:https://beadsandneeds.com/wp-content/uploads/2023/07/20230627_104127.jpg
END:VEVENT
END:VCALENDAR