BEGIN:VCALENDAR
VERSION:2.0
PRODID:-//Beads &amp; Needs - ECPv6.15.0.1//NONSGML v1.0//EN
CALSCALE:GREGORIAN
METHOD:PUBLISH
X-ORIGINAL-URL:https://beadsandneeds.com
X-WR-CALDESC:Events for Beads &amp; Needs
REFRESH-INTERVAL;VALUE=DURATION:PT1H
X-Robots-Tag:noindex
X-PUBLISHED-TTL:PT1H
BEGIN:VTIMEZONE
TZID:America/Denver
BEGIN:DAYLIGHT
TZOFFSETFROM:-0700
TZOFFSETTO:-0600
TZNAME:MDT
DTSTART:20230312T090000
END:DAYLIGHT
BEGIN:STANDARD
TZOFFSETFROM:-0600
TZOFFSETTO:-0700
TZNAME:MST
DTSTART:20231105T080000
END:STANDARD
END:VTIMEZONE
BEGIN:VEVENT
DTSTART;TZID=America/Denver:20230715T103000
DTEND;TZID=America/Denver:20230715T170000
DTSTAMP:20260421T094019
CREATED:20230707T214604Z
LAST-MODIFIED:20230707T214604Z
UID:1727-1689417000-1689440400@beadsandneeds.com
SUMMARY:Peyote Stitch Pen Cover by Debbie Richard
DESCRIPTION:Geo 60 Peyote Pen Cover\nBy Debbie Richard\nof MyRoseGardenGirls\nDifficulty: Moderately Easy\nInstructor: Angie\nCost: $20 -One Pen Included \nMaterials:\nDelica Beads in 2 colors\nBeading Needle\nBeading Thread
URL:https://beadsandneeds.com/event/peyote-stitch-pen-cover-by-debbie-richard/
LOCATION:Beads & Needs\, Store Location 5154 Centennial Blvd\, Colorado Springs\, CO\, 80919\, United States
CATEGORIES:Classes
ATTACH;FMTTYPE=image/jpeg:https://beadsandneeds.com/wp-content/uploads/2023/07/Geo60Pen.jpg
END:VEVENT
END:VCALENDAR