BEGIN:VCALENDAR
VERSION:2.0
PRODID:-//Beads &amp; Needs - ECPv6.15.0.1//NONSGML v1.0//EN
CALSCALE:GREGORIAN
METHOD:PUBLISH
X-ORIGINAL-URL:https://beadsandneeds.com
X-WR-CALDESC:Events for Beads &amp; Needs
REFRESH-INTERVAL;VALUE=DURATION:PT1H
X-Robots-Tag:noindex
X-PUBLISHED-TTL:PT1H
BEGIN:VTIMEZONE
TZID:America/Denver
BEGIN:DAYLIGHT
TZOFFSETFROM:-0700
TZOFFSETTO:-0600
TZNAME:MDT
DTSTART:20230312T090000
END:DAYLIGHT
BEGIN:STANDARD
TZOFFSETFROM:-0600
TZOFFSETTO:-0700
TZNAME:MST
DTSTART:20231105T080000
END:STANDARD
END:VTIMEZONE
BEGIN:VEVENT
DTSTART;TZID=America/Denver:20230902T103000
DTEND;TZID=America/Denver:20230902T173000
DTSTAMP:20260421T055810
CREATED:20230827T203759Z
LAST-MODIFIED:20230827T204203Z
UID:1756-1693650600-1693675800@beadsandneeds.com
SUMMARY:Tree of Life Wire Wrap
DESCRIPTION:Tree of Life Wire Wrap with Debbie Bayley \nSaturday September 2nd learn the art of wire wrapping by making this Tree of Life pendant! \nDifficulty Level: Beginner\nInstructor: Debbie Bayley\nCost: $25 plus materials \nMaterials:\n18 gauge wire for outer frame \n26 or 28 gauge wire for branches \nSeed beads or other round bead of any size or color (size will determine quantity so the larger the bead\, the less you need) for leaves
URL:https://beadsandneeds.com/event/tree-of-life-wire-wrap/
CATEGORIES:Classes
END:VEVENT
END:VCALENDAR