BEGIN:VCALENDAR
VERSION:2.0
PRODID:-//Beads &amp; Needs - ECPv6.15.0.1//NONSGML v1.0//EN
CALSCALE:GREGORIAN
METHOD:PUBLISH
X-ORIGINAL-URL:https://beadsandneeds.com
X-WR-CALDESC:Events for Beads &amp; Needs
REFRESH-INTERVAL;VALUE=DURATION:PT1H
X-Robots-Tag:noindex
X-PUBLISHED-TTL:PT1H
BEGIN:VTIMEZONE
TZID:America/Denver
BEGIN:DAYLIGHT
TZOFFSETFROM:-0700
TZOFFSETTO:-0600
TZNAME:MDT
DTSTART:20230312T090000
END:DAYLIGHT
BEGIN:STANDARD
TZOFFSETFROM:-0600
TZOFFSETTO:-0700
TZNAME:MST
DTSTART:20231105T080000
END:STANDARD
END:VTIMEZONE
BEGIN:VEVENT
DTSTART;TZID=America/Denver:20230923T103000
DTEND;TZID=America/Denver:20230923T170000
DTSTAMP:20260419T193735
CREATED:20230828T030136Z
LAST-MODIFIED:20230828T030136Z
UID:1765-1695465000-1695488400@beadsandneeds.com
SUMMARY:Paisley Swirl Bracelet by Deb Roberti
DESCRIPTION:Saturday\, September 23rd\, decorate yourself with this colorful\, swirly bracelet designed by Deb Roberti! \nDate: 9/23 \nTime: 10:30AM – 5:00 PM \nDifficulty Level: Beginner \nInstructor: Terry \nCost: $25 plus materials \nMaterials: \nPaisley Duos in 3 different colors \n11/0 seed beads \n8/0 seed beads \n4mm beads – can be round\, bicone\, fire polish\, etc. \n6lb Fireline \nClasp
URL:https://beadsandneeds.com/event/paisley-swirl-bracelet-by-deb-roberti/
CATEGORIES:Classes
ATTACH;FMTTYPE=image/jpeg:https://beadsandneeds.com/wp-content/uploads/2023/08/paisley-swirl-e1693170240911.jpg
END:VEVENT
END:VCALENDAR