BEGIN:VCALENDAR
VERSION:2.0
PRODID:-//Beads &amp; Needs - ECPv6.15.0.1//NONSGML v1.0//EN
CALSCALE:GREGORIAN
METHOD:PUBLISH
X-WR-CALNAME:Beads &amp; Needs
X-ORIGINAL-URL:https://beadsandneeds.com
X-WR-CALDESC:Events for Beads &amp; Needs
REFRESH-INTERVAL;VALUE=DURATION:PT1H
X-Robots-Tag:noindex
X-PUBLISHED-TTL:PT1H
BEGIN:VTIMEZONE
TZID:America/Denver
BEGIN:DAYLIGHT
TZOFFSETFROM:-0700
TZOFFSETTO:-0600
TZNAME:MDT
DTSTART:20230312T090000
END:DAYLIGHT
BEGIN:STANDARD
TZOFFSETFROM:-0600
TZOFFSETTO:-0700
TZNAME:MST
DTSTART:20231105T080000
END:STANDARD
END:VTIMEZONE
BEGIN:VEVENT
DTSTART;TZID=America/Denver:20231014T103000
DTEND;TZID=America/Denver:20231014T163000
DTSTAMP:20260419T092418
CREATED:20231003T193236Z
LAST-MODIFIED:20231003T195119Z
UID:1788-1697279400-1697301000@beadsandneeds.com
SUMMARY:Anjou Pendant and Earrings
DESCRIPTION:We’re making the Anjou pendant and earrings to match the bracelet! This beautiful set is designed by Michelle Snyder of Poetry in Beads.\nDate: Saturday October 14th\n\n\nTime: 10:30AM – 4:30PM\nDifficulty Level: Intermediate\nInstructor: Jeanine\nCost: $25 plus materials\nMaterials:\n18mm Lunasoft cabochon or Rivoli\nLeft and right Zoliduos\nDiamonduos\nDropduos\nCzechmates 7mm 2 hole cabochons\n3mm and 4mm bicones\n15/o seed beads\nEar Wires\n6lb Fireline\nSize 11 beading needle
URL:https://beadsandneeds.com/event/anjou-pendant-and-earrings/
CATEGORIES:Classes
ATTACH;FMTTYPE=image/webp:https://beadsandneeds.com/wp-content/uploads/2023/10/Anjou.webp
END:VEVENT
END:VCALENDAR