BEGIN:VCALENDAR
VERSION:2.0
PRODID:-//Beads &amp; Needs - ECPv6.15.0.1//NONSGML v1.0//EN
CALSCALE:GREGORIAN
METHOD:PUBLISH
X-ORIGINAL-URL:https://beadsandneeds.com
X-WR-CALDESC:Events for Beads &amp; Needs
REFRESH-INTERVAL;VALUE=DURATION:PT1H
X-Robots-Tag:noindex
X-PUBLISHED-TTL:PT1H
BEGIN:VTIMEZONE
TZID:America/Denver
BEGIN:DAYLIGHT
TZOFFSETFROM:-0700
TZOFFSETTO:-0600
TZNAME:MDT
DTSTART:20230312T090000
END:DAYLIGHT
BEGIN:STANDARD
TZOFFSETFROM:-0600
TZOFFSETTO:-0700
TZNAME:MST
DTSTART:20231105T080000
END:STANDARD
END:VTIMEZONE
BEGIN:VEVENT
DTSTART;TZID=America/Denver:20231111T103000
DTEND;TZID=America/Denver:20231111T173000
DTSTAMP:20260421T055813
CREATED:20231028T190543Z
LAST-MODIFIED:20231028T190543Z
UID:1811-1699698600-1699723800@beadsandneeds.com
SUMMARY:Duo Lace Bracelet by Deb Roberti
DESCRIPTION:Date: Saturday\, November 11th\nInstructor: Terry\nCost: $25 + Materials\nDifficulty Level: Intermediate  \nMaterials:\nFor Unembellished (skinny) bracelet:\nSize 11/0 seed beads\n3mm fire-polished beads\n4mm fire-polished beads\nGemDuo beads (DiamonDuo beads also work)\nFireline\, or OneG Thread\nClasp  \nFor Embellished (wide bracelet) add:\nSuperDuo beads
URL:https://beadsandneeds.com/event/duo-lace-bracelet-by-deb-roberti/
CATEGORIES:Classes
ATTACH;FMTTYPE=image/png:https://beadsandneeds.com/wp-content/uploads/2023/10/Screenshot-2023-10-28-12.45.44-PM.png
END:VEVENT
END:VCALENDAR