BEGIN:VCALENDAR
VERSION:2.0
PRODID:-//Beads &amp; Needs - ECPv6.15.0.1//NONSGML v1.0//EN
CALSCALE:GREGORIAN
METHOD:PUBLISH
X-WR-CALNAME:Beads &amp; Needs
X-ORIGINAL-URL:https://beadsandneeds.com
X-WR-CALDESC:Events for Beads &amp; Needs
REFRESH-INTERVAL;VALUE=DURATION:PT1H
X-Robots-Tag:noindex
X-PUBLISHED-TTL:PT1H
BEGIN:VTIMEZONE
TZID:America/Denver
BEGIN:DAYLIGHT
TZOFFSETFROM:-0700
TZOFFSETTO:-0600
TZNAME:MDT
DTSTART:20230312T090000
END:DAYLIGHT
BEGIN:STANDARD
TZOFFSETFROM:-0600
TZOFFSETTO:-0700
TZNAME:MST
DTSTART:20231105T080000
END:STANDARD
END:VTIMEZONE
BEGIN:VEVENT
DTSTART;TZID=America/Denver:20231202T103000
DTEND;TZID=America/Denver:20231202T150000
DTSTAMP:20260421T055552
CREATED:20231115T194559Z
LAST-MODIFIED:20231115T194559Z
UID:1816-1701513000-1701529200@beadsandneeds.com
SUMMARY:Poinsettia by Darcie
DESCRIPTION:Just in time for the season\, Darcie has a new beaded flower for us!\nDate: December 2nd\nInstructor: Darcie\nTime: 10:30-3:00\nDifficulty: Beginner\nCost: $35\nIncluded Materials:\nCenter beads\nColored wire\nMaterials Needed:\n11/0 Seed beads in red and green (or any color you prefer!)
URL:https://beadsandneeds.com/event/poinsettia-by-darcie/
CATEGORIES:Classes
ATTACH;FMTTYPE=image/jpeg:https://beadsandneeds.com/wp-content/uploads/2023/11/poinsettia.jpg
END:VEVENT
END:VCALENDAR