BEGIN:VCALENDAR
VERSION:2.0
PRODID:-//Beads &amp; Needs - ECPv6.15.0.1//NONSGML v1.0//EN
CALSCALE:GREGORIAN
METHOD:PUBLISH
X-WR-CALNAME:Beads &amp; Needs
X-ORIGINAL-URL:https://beadsandneeds.com
X-WR-CALDESC:Events for Beads &amp; Needs
REFRESH-INTERVAL;VALUE=DURATION:PT1H
X-Robots-Tag:noindex
X-PUBLISHED-TTL:PT1H
BEGIN:VTIMEZONE
TZID:America/Denver
BEGIN:DAYLIGHT
TZOFFSETFROM:-0700
TZOFFSETTO:-0600
TZNAME:MDT
DTSTART:20230312T090000
END:DAYLIGHT
BEGIN:STANDARD
TZOFFSETFROM:-0600
TZOFFSETTO:-0700
TZNAME:MST
DTSTART:20231105T080000
END:STANDARD
END:VTIMEZONE
BEGIN:VEVENT
DTSTART;TZID=America/Denver:20231209T103000
DTEND;TZID=America/Denver:20231209T170000
DTSTAMP:20260421T091813
CREATED:20231201T191949Z
LAST-MODIFIED:20231201T191949Z
UID:1841-1702117800-1702141200@beadsandneeds.com
SUMMARY:Triangle Weave Bracelet by Deb Roberti
DESCRIPTION:This bracelet can be made in 2 different ways. The original calls for 6mm beads\, while our smaller version calls for 4mm beads. \nDate: December 9\nTime: 10:30-5\nCost: $25 +Materials\nInstructor: Jeannine D.\nDifficulty: Beginner Friendly \nMATERIALS for Version 1:\n• 4 yards of 6 lb. FireLine\n• About 175 size 11° seed beads\n• About 28 size 6mm bicone crystals\n• About 27 size 6mm fire-polished beads (Note: Most any size\n6mm beads should work just as well as fire-polished beads)\n• clasp \nVersion 2:\n• 4 yards of 6 lb. FireLine\n• About 175 size 15° seed beads\n• About 28 size 4mm bicone crystals\n• About 27 size 4mm fire-polished beads\n• clasp
URL:https://beadsandneeds.com/event/triangle-weave-bracelet-by-deb-roberti/
LOCATION:Beads & Needs\, Store Location 5154 Centennial Blvd\, Colorado Springs\, CO\, 80919\, United States
CATEGORIES:Classes
ATTACH;FMTTYPE=image/jpeg:https://beadsandneeds.com/wp-content/uploads/2023/12/TriangleWeave_Image.jpg
END:VEVENT
END:VCALENDAR