BEGIN:VCALENDAR
VERSION:2.0
PRODID:-//Beads &amp; Needs - ECPv6.15.0.1//NONSGML v1.0//EN
CALSCALE:GREGORIAN
METHOD:PUBLISH
X-ORIGINAL-URL:https://beadsandneeds.com
X-WR-CALDESC:Events for Beads &amp; Needs
REFRESH-INTERVAL;VALUE=DURATION:PT1H
X-Robots-Tag:noindex
X-PUBLISHED-TTL:PT1H
BEGIN:VTIMEZONE
TZID:America/Denver
BEGIN:DAYLIGHT
TZOFFSETFROM:-0700
TZOFFSETTO:-0600
TZNAME:MDT
DTSTART:20230312T090000
END:DAYLIGHT
BEGIN:STANDARD
TZOFFSETFROM:-0600
TZOFFSETTO:-0700
TZNAME:MST
DTSTART:20231105T080000
END:STANDARD
END:VTIMEZONE
BEGIN:VEVENT
DTSTART;TZID=America/Denver:20231216T103000
DTEND;TZID=America/Denver:20231216T170000
DTSTAMP:20260421T073449
CREATED:20231122T210519Z
LAST-MODIFIED:20231122T210519Z
UID:1827-1702722600-1702746000@beadsandneeds.com
SUMMARY:Joyeux Pendant by Deb Roberti
DESCRIPTION:Terry will be teaching us how to make the festive Joyeux pendant\, designed by Deborah Roberti!\nDate: December 16th\nInstructor: Terry\nTime: 10:30-5:00\nDifficulty: Beginner\nCost: $25 plus materials\nMaterials:\n8lb Fireline\n11/0 seed beads in 2 different colors\n8/0 seed beads\n3mm beads\, round or fire polish\n6mm round beads\n6mm bicone crystals\nSuperduo beads\n4-6mm jump ring or closed loop bail
URL:https://beadsandneeds.com/event/joyeux-pendant-by-deb-roberti/
CATEGORIES:Classes
ATTACH;FMTTYPE=image/jpeg:https://beadsandneeds.com/wp-content/uploads/2023/11/Joyeux_WEB.jpg
END:VEVENT
END:VCALENDAR