BEGIN:VCALENDAR
VERSION:2.0
PRODID:-//Beads &amp; Needs - ECPv6.15.0.1//NONSGML v1.0//EN
CALSCALE:GREGORIAN
METHOD:PUBLISH
X-WR-CALNAME:Beads &amp; Needs
X-ORIGINAL-URL:https://beadsandneeds.com
X-WR-CALDESC:Events for Beads &amp; Needs
REFRESH-INTERVAL;VALUE=DURATION:PT1H
X-Robots-Tag:noindex
X-PUBLISHED-TTL:PT1H
BEGIN:VTIMEZONE
TZID:America/Denver
BEGIN:DAYLIGHT
TZOFFSETFROM:-0700
TZOFFSETTO:-0600
TZNAME:MDT
DTSTART:20240310T090000
END:DAYLIGHT
BEGIN:STANDARD
TZOFFSETFROM:-0600
TZOFFSETTO:-0700
TZNAME:MST
DTSTART:20241103T080000
END:STANDARD
END:VTIMEZONE
BEGIN:VEVENT
DTSTART;TZID=America/Denver:20240224T103000
DTEND;TZID=America/Denver:20240224T170000
DTSTAMP:20260421T105635
CREATED:20240131T202633Z
LAST-MODIFIED:20240214T194649Z
UID:1883-1708770600-1708794000@beadsandneeds.com
SUMMARY:Candy Cane Band by Deb Roberti
DESCRIPTION:Terry is teaching this fun\, versatile band made with half Tilas and MiniDuos. \nDate: Saturday\, February 24th\nInstructor: Terry\nTime: 10:30-5:00\nDifficulty: Beginner\nCost: $25\, plus materials \nMaterials:\n8/0 seed beads\n11/0 seed beads\nHalf Tila beads\nMiniDuo beads\nClasp
URL:https://beadsandneeds.com/event/candy-cane-band-by-deb-roberti/
LOCATION:Beads & Needs\, Store Location 5154 Centennial Blvd\, Colorado Springs\, CO\, 80919\, United States
CATEGORIES:Classes,Home Page Feature
ATTACH;FMTTYPE=image/jpeg:https://beadsandneeds.com/wp-content/uploads/2024/01/CandyCane_WEB.jpg
END:VEVENT
END:VCALENDAR