BEGIN:VCALENDAR
VERSION:2.0
PRODID:-//Beads &amp; Needs - ECPv6.15.0.1//NONSGML v1.0//EN
CALSCALE:GREGORIAN
METHOD:PUBLISH
X-WR-CALNAME:Beads &amp; Needs
X-ORIGINAL-URL:https://beadsandneeds.com
X-WR-CALDESC:Events for Beads &amp; Needs
REFRESH-INTERVAL;VALUE=DURATION:PT1H
X-Robots-Tag:noindex
X-PUBLISHED-TTL:PT1H
BEGIN:VTIMEZONE
TZID:America/Denver
BEGIN:DAYLIGHT
TZOFFSETFROM:-0700
TZOFFSETTO:-0600
TZNAME:MDT
DTSTART:20240310T090000
END:DAYLIGHT
BEGIN:STANDARD
TZOFFSETFROM:-0600
TZOFFSETTO:-0700
TZNAME:MST
DTSTART:20241103T080000
END:STANDARD
END:VTIMEZONE
BEGIN:VEVENT
DTSTART;TZID=America/Denver:20240302T103000
DTEND;TZID=America/Denver:20240303T170000
DTSTAMP:20260421T105633
CREATED:20240124T192633Z
LAST-MODIFIED:20240214T194925Z
UID:1874-1709375400-1709485200@beadsandneeds.com
SUMMARY:Sleeping Beauty Set by Poetry in Beads
DESCRIPTION:We’re hosting a 2-day tutorial for this pendant\, bracelet\, and earring set designed by Michelle Snyder of Poetry in Beads. Wearing this set will make you feel like royalty! \nDate: Saturday\, March 2nd & Sunday\, March 3rd\nInstructor: Jeannine\nTime: 10:30-5:00\nDifficulty: Intermediate\nCost: $50 for both days\, plus materials\nMaterials for Pendant:\n1 18mm Rivoli\n12 7mm 2-hole cabochons\n24 4mm round beads\n36 3mm round beads\n12 4mm bicones\nSize 11/0 Delica beads\nSize 11/0 seed beads\nSize 15/0 seed beads \nMaterials for Bracelet (amount will vary by length of bracelet):\n7mm 2-hole cabochons\n3mm round beads\n4mm round beads\n4mm bicones\nSize 11/0 seed beads\nSize 15/0 seed beads\nClasp\nJump rings \nMaterials for Earrings:\n2 7mm 2-hole cabochons\n16 4mm round beads\n16 3mm round beads\n8 4mm bicones\n2 drop beads (optional)\nSize 11/0 seed beads\nSize 15/0 seed beads\nEar wires
URL:https://beadsandneeds.com/event/sleeping-beauty-set-by-poetry-in-beads/
LOCATION:Beads & Needs\, Store Location 5154 Centennial Blvd\, Colorado Springs\, CO\, 80919\, United States
CATEGORIES:Classes
ATTACH;FMTTYPE=image/jpeg:https://beadsandneeds.com/wp-content/uploads/2024/01/sleeping-beauty-set.jpg
END:VEVENT
END:VCALENDAR