BEGIN:VCALENDAR
VERSION:2.0
PRODID:-//Beads &amp; Needs - ECPv6.15.0.1//NONSGML v1.0//EN
CALSCALE:GREGORIAN
METHOD:PUBLISH
X-WR-CALNAME:Beads &amp; Needs
X-ORIGINAL-URL:https://beadsandneeds.com
X-WR-CALDESC:Events for Beads &amp; Needs
REFRESH-INTERVAL;VALUE=DURATION:PT1H
X-Robots-Tag:noindex
X-PUBLISHED-TTL:PT1H
BEGIN:VTIMEZONE
TZID:America/Denver
BEGIN:DAYLIGHT
TZOFFSETFROM:-0700
TZOFFSETTO:-0600
TZNAME:MDT
DTSTART:20240310T090000
END:DAYLIGHT
BEGIN:STANDARD
TZOFFSETFROM:-0600
TZOFFSETTO:-0700
TZNAME:MST
DTSTART:20241103T080000
END:STANDARD
END:VTIMEZONE
BEGIN:VEVENT
DTSTART;TZID=America/Denver:20240317T150000
DTEND;TZID=America/Denver:20240317T170000
DTSTAMP:20260421T124713
CREATED:20240223T002910Z
LAST-MODIFIED:20240223T002910Z
UID:2038-1710687600-1710694800@beadsandneeds.com
SUMMARY:Beginner Basics - Beaded Bracelet
DESCRIPTION:On March 17th\, we continue our beginner basics course! This time\, our project is a simple beaded bracelet. We’ll learn how to string beads onto elastic and get some practice by creating the piece – or pieces\, if time allows – which will be complete and wearable by the end of class!\nDate: Sunday\, March 17th\nInstructor: Brandi\nTime: 3:00-5:00\nDifficulty: Beginner\nCost: $20\, materials included\n\n\n\n\n\nIf you choose to bring your own materials\, you will need:\nSize 8/0 seed beads\nElastic
URL:https://beadsandneeds.com/event/beginner-basics-beaded-bracelet/
CATEGORIES:Classes,Home Page Feature
ATTACH;FMTTYPE=image/jpeg:https://beadsandneeds.com/wp-content/uploads/2024/02/stringing-project.jpg
END:VEVENT
END:VCALENDAR