BEGIN:VCALENDAR
VERSION:2.0
PRODID:-//Beads &amp; Needs - ECPv6.15.0.1//NONSGML v1.0//EN
CALSCALE:GREGORIAN
METHOD:PUBLISH
X-ORIGINAL-URL:https://beadsandneeds.com
X-WR-CALDESC:Events for Beads &amp; Needs
REFRESH-INTERVAL;VALUE=DURATION:PT1H
X-Robots-Tag:noindex
X-PUBLISHED-TTL:PT1H
BEGIN:VTIMEZONE
TZID:America/Denver
BEGIN:DAYLIGHT
TZOFFSETFROM:-0700
TZOFFSETTO:-0600
TZNAME:MDT
DTSTART:20220313T090000
END:DAYLIGHT
BEGIN:STANDARD
TZOFFSETFROM:-0600
TZOFFSETTO:-0700
TZNAME:MST
DTSTART:20221106T080000
END:STANDARD
END:VTIMEZONE
BEGIN:VEVENT
DTSTART;TZID=America/Denver:20220312T103000
DTEND;TZID=America/Denver:20220312T143000
DTSTAMP:20260420T184636
CREATED:20220309T231230Z
LAST-MODIFIED:20220311T231754Z
UID:1250-1647081000-1647095400@beadsandneeds.com
SUMMARY:Bowtie
DESCRIPTION:“Bowtie” by Deb Roberti!\nSaturday\, March 12th 10:30 am to 2:30 pm.\nClass is $25.00. Materials not included.\nCall (719)599-3300 to register.
URL:https://beadsandneeds.com/event/bowtie/
LOCATION:Beads & Needs\, Store Location 5154 Centennial Blvd\, Colorado Springs\, CO\, 80919\, United States
CATEGORIES:Classes
ATTACH;FMTTYPE=image/jpeg:https://beadsandneeds.com/wp-content/uploads/2022/03/BowTieRevised.jpg
ORGANIZER;CN="Beads & Needs":MAILTO:info@beadsandneeds.com
END:VEVENT
BEGIN:VEVENT
DTSTART;TZID=America/Denver:20220318T100000
DTEND;TZID=America/Denver:20220318T170000
DTSTAMP:20260420T184636
CREATED:20220309T231958Z
LAST-MODIFIED:20220316T224537Z
UID:1252-1647597600-1647622800@beadsandneeds.com
SUMMARY:Basket Weaving With Kim!
DESCRIPTION:Basket Weaving with Kim!\nFriday March 18th 10:00 a.m. – 5:00 p.m.\nMaterials Included.\nChoose your basket!\n1. Garden Basket – $65\n2. Small Cracker Basket – $30\n3. Pin Cushion Basket – $30\n4. Quilters Tote – $50\n5. Wooden Bottom Utensil Holder – $45\nCall (719)599-3300 to register.
URL:https://beadsandneeds.com/event/basket-weaving-with-kim/
CATEGORIES:Classes
ATTACH;FMTTYPE=image/jpeg:https://beadsandneeds.com/wp-content/uploads/2022/03/Basketweaving_4_2022.jpg
ORGANIZER;CN="Beads & Needs":MAILTO:info@beadsandneeds.com
END:VEVENT
BEGIN:VEVENT
DTSTART;TZID=America/Denver:20220319T103000
DTEND;TZID=America/Denver:20220319T153000
DTSTAMP:20260420T184636
CREATED:20220311T183238Z
LAST-MODIFIED:20220311T211232Z
UID:1261-1647685800-1647703800@beadsandneeds.com
SUMMARY:Mica Shift Polymer Clay with Shane S.
DESCRIPTION:Mica Shift Technique in Polymer Clay with Shane S. \n\nWe will make this little trinket bowl and then some cabochons as time permits. We will expand on the technique outlined in Donna Kato’s book Polymer Clay Creative Surface Effects.\n\n\nBeginners to advanced\n\n\n$40.\n\n\n10:30 to 3ish\n\n\nAll tools and materials provided however\, if you have your own pasta machine and tools please feel free to bring them. Any rubber stamps or texture sheets? Bring those too.\n\n\nAdditional clay and materials will be available for purchase. We prefer cash but of course\, we will take your card.\n\n\nMarch 19th (&20th?) (Class limit 4 each day or 5 for 1 day)\n\n\nas of  3-11-2022  this class is now full.  If you are interested please call the store and add your name to the wait list
URL:https://beadsandneeds.com/event/mica-shift-polymer-clay-with-shane-s/
LOCATION:Beads & Needs\, Store Location 5154 Centennial Blvd\, Colorado Springs\, CO\, 80919\, United States
CATEGORIES:Classes
ATTACH;FMTTYPE=image/jpeg:https://beadsandneeds.com/wp-content/uploads/2022/03/Mica-shift-2-22.jpg
END:VEVENT
BEGIN:VEVENT
DTSTART;TZID=America/Denver:20220326T103000
DTEND;TZID=America/Denver:20220326T143000
DTSTAMP:20260420T184636
CREATED:20220311T211120Z
LAST-MODIFIED:20220311T230937Z
UID:1265-1648290600-1648305000@beadsandneeds.com
SUMMARY:Wire Wrapping with Nancy
DESCRIPTION:Saturday March 26th from 10:30 a.m. – 2:30 p.m. \nClass is $30. Materials are not included. \nCall (719)599-3300 to register.
URL:https://beadsandneeds.com/event/wire-wrapping-with-nancy/
LOCATION:Beads & Needs\, Store Location 5154 Centennial Blvd\, Colorado Springs\, CO\, 80919\, United States
CATEGORIES:Classes
ATTACH;FMTTYPE=image/jpeg:https://beadsandneeds.com/wp-content/uploads/2022/03/wire-wrapping-3-26-22-scaled.jpg
ORGANIZER;CN="Beads & Needs":MAILTO:info@beadsandneeds.com
END:VEVENT
END:VCALENDAR