BEGIN:VCALENDAR
VERSION:2.0
PRODID:-//Beads &amp; Needs - ECPv6.15.0.1//NONSGML v1.0//EN
CALSCALE:GREGORIAN
METHOD:PUBLISH
X-WR-CALNAME:Beads &amp; Needs
X-ORIGINAL-URL:https://beadsandneeds.com
X-WR-CALDESC:Events for Beads &amp; Needs
REFRESH-INTERVAL;VALUE=DURATION:PT1H
X-Robots-Tag:noindex
X-PUBLISHED-TTL:PT1H
BEGIN:VTIMEZONE
TZID:America/Denver
BEGIN:DAYLIGHT
TZOFFSETFROM:-0700
TZOFFSETTO:-0600
TZNAME:MDT
DTSTART:20220313T090000
END:DAYLIGHT
BEGIN:STANDARD
TZOFFSETFROM:-0600
TZOFFSETTO:-0700
TZNAME:MST
DTSTART:20221106T080000
END:STANDARD
END:VTIMEZONE
BEGIN:VEVENT
DTSTART;TZID=America/Denver:20220212T100000
DTEND;TZID=America/Denver:20220212T143000
DTSTAMP:20260420T224628
CREATED:20220211T174020Z
LAST-MODIFIED:20220211T174233Z
UID:1200-1644660000-1644676200@beadsandneeds.com
SUMMARY:"Mini Gem Duo" Bracelet by Deb Roberti and taught by Jeannine D
DESCRIPTION:“Mini Gem Duo” Bracelet by Deb Roberti and taught by Jeannine D. \nSaturday Feb.\, 12th. 10:00 am to 2:30 pm. \nClass is $25.00. Materials not included
URL:https://beadsandneeds.com/event/mini-gem-duo-bracelet-by-deb-roberti-and-taught-by-jeannine-d/
LOCATION:Beads & Needs\, Store Location 5154 Centennial Blvd\, Colorado Springs\, CO\, 80919\, United States
CATEGORIES:Classes
ATTACH;FMTTYPE=image/jpeg:https://beadsandneeds.com/wp-content/uploads/2022/02/mini_Gem_dou-scaled.jpg
ORGANIZER;CN="Beads & Needs":MAILTO:info@beadsandneeds.com
END:VEVENT
END:VCALENDAR