BEGIN:VCALENDAR
VERSION:2.0
PRODID:-//Beads &amp; Needs - ECPv6.15.0.1//NONSGML v1.0//EN
CALSCALE:GREGORIAN
METHOD:PUBLISH
X-WR-CALNAME:Beads &amp; Needs
X-ORIGINAL-URL:https://beadsandneeds.com
X-WR-CALDESC:Events for Beads &amp; Needs
REFRESH-INTERVAL;VALUE=DURATION:PT1H
X-Robots-Tag:noindex
X-PUBLISHED-TTL:PT1H
BEGIN:VTIMEZONE
TZID:America/Denver
BEGIN:DAYLIGHT
TZOFFSETFROM:-0700
TZOFFSETTO:-0600
TZNAME:MDT
DTSTART:20220313T090000
END:DAYLIGHT
BEGIN:STANDARD
TZOFFSETFROM:-0600
TZOFFSETTO:-0700
TZNAME:MST
DTSTART:20221106T080000
END:STANDARD
END:VTIMEZONE
BEGIN:VEVENT
DTSTART;TZID=America/Denver:20220312T103000
DTEND;TZID=America/Denver:20220312T143000
DTSTAMP:20260420T202439
CREATED:20220309T231230Z
LAST-MODIFIED:20220311T231754Z
UID:1250-1647081000-1647095400@beadsandneeds.com
SUMMARY:Bowtie
DESCRIPTION:“Bowtie” by Deb Roberti!\nSaturday\, March 12th 10:30 am to 2:30 pm.\nClass is $25.00. Materials not included.\nCall (719)599-3300 to register.
URL:https://beadsandneeds.com/event/bowtie/
LOCATION:Beads & Needs\, Store Location 5154 Centennial Blvd\, Colorado Springs\, CO\, 80919\, United States
CATEGORIES:Classes
ATTACH;FMTTYPE=image/jpeg:https://beadsandneeds.com/wp-content/uploads/2022/03/BowTieRevised.jpg
ORGANIZER;CN="Beads & Needs":MAILTO:info@beadsandneeds.com
END:VEVENT
END:VCALENDAR