BEGIN:VCALENDAR
VERSION:2.0
PRODID:-//Beads &amp; Needs - ECPv6.15.0.1//NONSGML v1.0//EN
CALSCALE:GREGORIAN
METHOD:PUBLISH
X-WR-CALNAME:Beads &amp; Needs
X-ORIGINAL-URL:https://beadsandneeds.com
X-WR-CALDESC:Events for Beads &amp; Needs
REFRESH-INTERVAL;VALUE=DURATION:PT1H
X-Robots-Tag:noindex
X-PUBLISHED-TTL:PT1H
BEGIN:VTIMEZONE
TZID:America/Denver
BEGIN:DAYLIGHT
TZOFFSETFROM:-0700
TZOFFSETTO:-0600
TZNAME:MDT
DTSTART:20220313T090000
END:DAYLIGHT
BEGIN:STANDARD
TZOFFSETFROM:-0600
TZOFFSETTO:-0700
TZNAME:MST
DTSTART:20221106T080000
END:STANDARD
END:VTIMEZONE
BEGIN:VEVENT
DTSTART;TZID=America/Denver:20220414T100000
DTEND;TZID=America/Denver:20220414T170000
DTSTAMP:20260420T183909
CREATED:20220311T211924Z
LAST-MODIFIED:20220311T232437Z
UID:1269-1649930400-1649955600@beadsandneeds.com
SUMMARY:Basket Weaving with Kim!
DESCRIPTION:Thursday\, April 14th from 10:00 a.m. – 5:00 p.m. \nMaterials Included. \nChoose your basket! \n\nGarden Basket – $65\nSmall Cracker Basket – $30\n2 Tier Quilt Project Basket – $50\nWooden Button Utensil Holder – $45\nAnnie’s Fireplace Basket – $48\n\nCall (719)599-3300 to Register!
URL:https://beadsandneeds.com/event/basket-weaving-with-kim-2/
LOCATION:Beads & Needs\, Store Location 5154 Centennial Blvd\, Colorado Springs\, CO\, 80919\, United States
CATEGORIES:Classes
ATTACH;FMTTYPE=image/jpeg:https://beadsandneeds.com/wp-content/uploads/2022/03/Basketweaving_4_2022.jpg
ORGANIZER;CN="Beads & Needs":MAILTO:info@beadsandneeds.com
END:VEVENT
END:VCALENDAR