BEGIN:VCALENDAR
VERSION:2.0
PRODID:-//Beads &amp; Needs - ECPv6.15.0.1//NONSGML v1.0//EN
CALSCALE:GREGORIAN
METHOD:PUBLISH
X-WR-CALNAME:Beads &amp; Needs
X-ORIGINAL-URL:https://beadsandneeds.com
X-WR-CALDESC:Events for Beads &amp; Needs
REFRESH-INTERVAL;VALUE=DURATION:PT1H
X-Robots-Tag:noindex
X-PUBLISHED-TTL:PT1H
BEGIN:VTIMEZONE
TZID:America/Denver
BEGIN:DAYLIGHT
TZOFFSETFROM:-0700
TZOFFSETTO:-0600
TZNAME:MDT
DTSTART:20220313T090000
END:DAYLIGHT
BEGIN:STANDARD
TZOFFSETFROM:-0600
TZOFFSETTO:-0700
TZNAME:MST
DTSTART:20221106T080000
END:STANDARD
END:VTIMEZONE
BEGIN:VEVENT
DTSTART;TZID=America/Denver:20220423T103000
DTEND;TZID=America/Denver:20220423T143000
DTSTAMP:20260420T184635
CREATED:20220311T212458Z
LAST-MODIFIED:20220311T230610Z
UID:1273-1650709800-1650724200@beadsandneeds.com
SUMMARY:Victorian Lace with Mary
DESCRIPTION:Saturday April 23rd from 10:30 a.m. – 2:30 p.m. \nClass is $30. Materials not included. \nCall (719)599-3300 to register!
URL:https://beadsandneeds.com/event/victorian-lace-with-mary/
LOCATION:Beads & Needs\, Store Location 5154 Centennial Blvd\, Colorado Springs\, CO\, 80919\, United States
CATEGORIES:Classes
ATTACH;FMTTYPE=image/jpeg:https://beadsandneeds.com/wp-content/uploads/2022/03/victorian-lace--scaled.jpeg
ORGANIZER;CN="Beads & Needs":MAILTO:info@beadsandneeds.com
END:VEVENT
END:VCALENDAR