BEGIN:VCALENDAR
VERSION:2.0
PRODID:-//Beads &amp; Needs - ECPv6.15.0.1//NONSGML v1.0//EN
CALSCALE:GREGORIAN
METHOD:PUBLISH
X-ORIGINAL-URL:https://beadsandneeds.com
X-WR-CALDESC:Events for Beads &amp; Needs
REFRESH-INTERVAL;VALUE=DURATION:PT1H
X-Robots-Tag:noindex
X-PUBLISHED-TTL:PT1H
BEGIN:VTIMEZONE
TZID:America/Denver
BEGIN:DAYLIGHT
TZOFFSETFROM:-0700
TZOFFSETTO:-0600
TZNAME:MDT
DTSTART:20220313T090000
END:DAYLIGHT
BEGIN:STANDARD
TZOFFSETFROM:-0600
TZOFFSETTO:-0700
TZNAME:MST
DTSTART:20221106T080000
END:STANDARD
END:VTIMEZONE
BEGIN:VEVENT
DTSTART;TZID=America/Denver:20221203T103000
DTEND;TZID=America/Denver:20221203T143000
DTSTAMP:20260420T054134
CREATED:20221105T172014Z
LAST-MODIFIED:20221105T172014Z
UID:1500-1670063400-1670077800@beadsandneeds.com
SUMMARY:Skyreholme Bracelet by Michelle Snyder
DESCRIPTION:Instructor: Jeannine D.\nCost: $30 (Materials not included)
URL:https://beadsandneeds.com/event/skyreholme-bracelet-by-michelle-snyder/
LOCATION:Beads & Needs\, Store Location 5154 Centennial Blvd\, Colorado Springs\, CO\, 80919\, United States
CATEGORIES:Classes
ATTACH;FMTTYPE=image/jpeg:https://beadsandneeds.com/wp-content/uploads/2022/11/20221104_175224.jpg
END:VEVENT
END:VCALENDAR