BEGIN:VCALENDAR
VERSION:2.0
PRODID:-//Beads &amp; Needs - ECPv6.15.0.1//NONSGML v1.0//EN
CALSCALE:GREGORIAN
METHOD:PUBLISH
X-ORIGINAL-URL:https://beadsandneeds.com
X-WR-CALDESC:Events for Beads &amp; Needs
REFRESH-INTERVAL;VALUE=DURATION:PT1H
X-Robots-Tag:noindex
X-PUBLISHED-TTL:PT1H
BEGIN:VTIMEZONE
TZID:America/Denver
BEGIN:DAYLIGHT
TZOFFSETFROM:-0700
TZOFFSETTO:-0600
TZNAME:MDT
DTSTART:20230312T090000
END:DAYLIGHT
BEGIN:STANDARD
TZOFFSETFROM:-0600
TZOFFSETTO:-0700
TZNAME:MST
DTSTART:20231105T080000
END:STANDARD
END:VTIMEZONE
BEGIN:VEVENT
DTSTART;TZID=America/Denver:20230114T103000
DTEND;TZID=America/Denver:20230114T140000
DTSTAMP:20260420T035729
CREATED:20230101T204627Z
LAST-MODIFIED:20230101T204710Z
UID:1553-1673692200-1673704800@beadsandneeds.com
SUMMARY:Embellished Right Angle Weave Wrap
DESCRIPTION:Embellished Right Angle Weave Wrap \nLevel: Easy\nInstructor: Terry D.\nCost: $25 + Materials \nMaterials Needed:\nRondelle Beads (apx. 3x4mm\, or 4x6mm)\, 11/0 Seed Beads\, Small Drops for the edging\, Clasp/Button\, Fireline/Wildfire\, needle
URL:https://beadsandneeds.com/event/embellished-right-angle-weave-wrap/
LOCATION:Beads & Needs\, Store Location 5154 Centennial Blvd\, Colorado Springs\, CO\, 80919\, United States
CATEGORIES:Classes
ATTACH;FMTTYPE=image/jpeg:https://beadsandneeds.com/wp-content/uploads/2023/01/EmbRAW1.jpg
END:VEVENT
END:VCALENDAR