BEGIN:VCALENDAR
VERSION:2.0
PRODID:-//Beads &amp; Needs - ECPv6.15.0.1//NONSGML v1.0//EN
CALSCALE:GREGORIAN
METHOD:PUBLISH
X-WR-CALNAME:Beads &amp; Needs
X-ORIGINAL-URL:https://beadsandneeds.com
X-WR-CALDESC:Events for Beads &amp; Needs
REFRESH-INTERVAL;VALUE=DURATION:PT1H
X-Robots-Tag:noindex
X-PUBLISHED-TTL:PT1H
BEGIN:VTIMEZONE
TZID:America/Denver
BEGIN:DAYLIGHT
TZOFFSETFROM:-0700
TZOFFSETTO:-0600
TZNAME:MDT
DTSTART:20220313T090000
END:DAYLIGHT
BEGIN:STANDARD
TZOFFSETFROM:-0600
TZOFFSETTO:-0700
TZNAME:MST
DTSTART:20221106T080000
END:STANDARD
BEGIN:DAYLIGHT
TZOFFSETFROM:-0700
TZOFFSETTO:-0600
TZNAME:MDT
DTSTART:20230312T090000
END:DAYLIGHT
BEGIN:STANDARD
TZOFFSETFROM:-0600
TZOFFSETTO:-0700
TZNAME:MST
DTSTART:20231105T080000
END:STANDARD
END:VTIMEZONE
BEGIN:VEVENT
DTSTART;TZID=America/Denver:20230401T103000
DTEND;TZID=America/Denver:20230401T180000
DTSTAMP:20260419T230557
CREATED:20230323T212614Z
LAST-MODIFIED:20230323T212614Z
UID:1627-1680345000-1680372000@beadsandneeds.com
SUMMARY:Lindisfarne by Michelle Snyder
DESCRIPTION:By Michelle Snyder\nPoetry in Beads \nInstructor: Jeannine\nCost: $25 + Materials
URL:https://beadsandneeds.com/event/lindisfarne-by-michelle-snyder/
LOCATION:Beads & Needs\, Store Location 5154 Centennial Blvd\, Colorado Springs\, CO\, 80919\, United States
CATEGORIES:Classes
END:VEVENT
BEGIN:VEVENT
DTSTART;TZID=America/Denver:20230325T130000
DTEND;TZID=America/Denver:20230325T160000
DTSTAMP:20260419T230557
CREATED:20230303T225104Z
LAST-MODIFIED:20230303T225502Z
UID:1621-1679749200-1679760000@beadsandneeds.com
SUMMARY:Beaded Flower: Daffodil
DESCRIPTION:Class Level: Beginner Friendly\nInstructor: Darcie\nCost: $35\, some materials included \nMaterials Needed:\nSize 11/0 Seed Beads in flower & stem colors of your choice
URL:https://beadsandneeds.com/event/beaded-flower-daffodil/
LOCATION:Beads & Needs\, Store Location 5154 Centennial Blvd\, Colorado Springs\, CO\, 80919\, United States
CATEGORIES:Classes
ATTACH;FMTTYPE=image/jpeg:https://beadsandneeds.com/wp-content/uploads/2023/03/Daffodil-scaled-e1677884095762.jpg
END:VEVENT
BEGIN:VEVENT
DTSTART;TZID=America/Denver:20230318T103000
DTEND;TZID=America/Denver:20230318T150000
DTSTAMP:20260419T230557
CREATED:20230303T224730Z
LAST-MODIFIED:20230303T225327Z
UID:1617-1679135400-1679151600@beadsandneeds.com
SUMMARY:Intro to Beadweaving
DESCRIPTION:Gekko Bracelet \n \nReady to step up from stringing? Give beadweaving a try!\nThis class will show you how to follow a written pattern to expand your beading skills. \n  \nClass Level: Beginner Friendly\nInstructor: Terry\nCost: $20 + Materials \nMaterials Needed:\n78 -Gekko Beads\nSize 8/0 Seed Beads\n80 -SuperDuos\nClasp\nOne-G Beading Thread\, or Fireline (either 4 or 6lb) \nTools Needed:\nBeading Needle (size 11)\nScissors
URL:https://beadsandneeds.com/event/intro-to-beadweaving/
LOCATION:Beads & Needs\, Store Location 5154 Centennial Blvd\, Colorado Springs\, CO\, 80919\, United States
CATEGORIES:Classes
ATTACH;FMTTYPE=image/jpeg:https://beadsandneeds.com/wp-content/uploads/2023/03/GekkoBrac-e1677881924492.jpg
END:VEVENT
BEGIN:VEVENT
DTSTART;TZID=America/Denver:20230311T103000
DTEND;TZID=America/Denver:20230311T150000
DTSTAMP:20260419T230557
CREATED:20230215T193529Z
LAST-MODIFIED:20230215T193529Z
UID:1612-1678530600-1678546800@beadsandneeds.com
SUMMARY:L'Amore Full Set
DESCRIPTION:Two Day Workshop: L’Amore\nby Michelle Snyder\n \nJoin us Saturday\, March 11th & Sunday\, March 12th to make this 3-piece set. \nClass Level: Intermediate \nInstructors: Jeannine & Terry \nCost: (Covers both days) $50 + Materials \nMaterials List: (Combined List for All 3 Projects)\n21 -2-Hole Cabs\n182 -3mm Firepolish\n29 -3mm Round Beads\n84 -4mm Round Beads\n197 -Teacup Beads\n13 -Glass Drops\nSize 11/0 Seed Beads\nSize 6 Demi Beads\nSize 11 Demi Beads\nJump Rings\n2 Clasps (Bracelet & Necklace)\nExtender Chain (for Necklace -Optional)\n2 Earwires\nOne G Beading Thread or 6lb Fireline
URL:https://beadsandneeds.com/event/lamore-full-set/
LOCATION:Beads & Needs\, Store Location 5154 Centennial Blvd\, Colorado Springs\, CO\, 80919\, United States
CATEGORIES:Classes,Home Page Feature
END:VEVENT
BEGIN:VEVENT
DTSTART;TZID=America/Denver:20230304T103000
DTEND;TZID=America/Denver:20230304T150000
DTSTAMP:20260419T230557
CREATED:20230211T202739Z
LAST-MODIFIED:20230211T202739Z
UID:1609-1677925800-1677942000@beadsandneeds.com
SUMMARY:Dagmar Bracelet by Michelle Snyder
DESCRIPTION:Dagmar Bracelet\nby Michelle Snyder\n\nClass Level: Intermediate\nInstructor: Jeannine D.\nCost: $30 + Materials \nMaterials List:\n8 -size 6mm Chaton Crystals\n32 -size 6mm Round Beads\n96 -SuperDuos\n64 -size 3mm Bicones\nSeed Beads in sizes 11/0 & 15/0\nJump Rings\nBar Clasp\nBeading Thread or 6lb Fireline
URL:https://beadsandneeds.com/event/dagmar-bracelet-by-michelle-snyder/
LOCATION:Beads & Needs\, Store Location 5154 Centennial Blvd\, Colorado Springs\, CO\, 80919\, United States
CATEGORIES:Classes
ATTACH;FMTTYPE=image/jpeg:https://beadsandneeds.com/wp-content/uploads/2023/02/20230101_122847-scaled-e1676146320424.jpg
END:VEVENT
BEGIN:VEVENT
DTSTART;TZID=America/Denver:20230225T103000
DTEND;TZID=America/Denver:20230225T143000
DTSTAMP:20260419T230557
CREATED:20230208T233026Z
LAST-MODIFIED:20230208T233026Z
UID:1602-1677321000-1677335400@beadsandneeds.com
SUMMARY:Feathered Crescent
DESCRIPTION:Feathered Crescent\nby Olga Haserodt\n \nClass Level: Intermediate\nInstructor: Jeannine D.\nCost: $25 + Materials \nMaterials:\n~ 98 Two-Hole Crescent Beads\n~ 24 size 3mm Round Beads or Firepolish\n11/0 Seed Beads\nOne-G Thread or 6lb Fireline\nClasp
URL:https://beadsandneeds.com/event/feathered-crescent/
LOCATION:Beads & Needs\, Store Location 5154 Centennial Blvd\, Colorado Springs\, CO\, 80919\, United States
CATEGORIES:Classes
END:VEVENT
BEGIN:VEVENT
DTSTART;TZID=America/Denver:20230218T103000
DTEND;TZID=America/Denver:20230218T143000
DTSTAMP:20260419T230557
CREATED:20230208T231443Z
LAST-MODIFIED:20230208T231443Z
UID:1598-1676716200-1676730600@beadsandneeds.com
SUMMARY:Jupiter Band
DESCRIPTION:Jupiter Band\nby Deb Roberti\n \nClass Level: Intermediate\nInstructor: Terry D.\nCost: $25 + Materials \nMaterials:\n~ 32 size 3mm Firepolish or Round Beads\n~ 52 SuperDuo beads\n~ 14 size 6mm Round Beads\n11/0 Seed Beads\nThread or 6lb Fireline\nclasp
URL:https://beadsandneeds.com/event/jupiter-band/
LOCATION:Beads & Needs\, Store Location 5154 Centennial Blvd\, Colorado Springs\, CO\, 80919\, United States
CATEGORIES:Classes
ATTACH;FMTTYPE=image/jpeg:https://beadsandneeds.com/wp-content/uploads/2023/02/20230205_174834.jpg
END:VEVENT
BEGIN:VEVENT
DTSTART;TZID=America/Denver:20230211T103000
DTEND;TZID=America/Denver:20230211T103000
DTSTAMP:20260419T230557
CREATED:20230201T230827Z
LAST-MODIFIED:20230201T230827Z
UID:1594-1676111400-1676111400@beadsandneeds.com
SUMMARY:Elsa Pendant
DESCRIPTION:Elsa Pendant\nby Michelle Snyder \n \nClass Level: Intermediate\nInstructor: Jeannine D.\nCost: $25 + Materials \nMaterials List:\n1 – 24mm cabochon\n18 – 3mm pearls\n21 – 3mm bicones\n15 – 3.4mm drop seed beads\n15 – Super duos\nSize 11 Delica beads\nSize 11 seed beads (SB11)\nSize 15 seed beads (SB15)\n6lb Fireline\, or OneG beading thread\nBeading needle
URL:https://beadsandneeds.com/event/elsa-pendant/
LOCATION:Beads & Needs\, Store Location 5154 Centennial Blvd\, Colorado Springs\, CO\, 80919\, United States
CATEGORIES:Classes
ATTACH;FMTTYPE=image/jpeg:https://beadsandneeds.com/wp-content/uploads/2023/02/Elsa.jpg
END:VEVENT
BEGIN:VEVENT
DTSTART;TZID=America/Denver:20230128T103000
DTEND;TZID=America/Denver:20230128T140000
DTSTAMP:20260419T230557
CREATED:20230115T231820Z
LAST-MODIFIED:20230115T231820Z
UID:1590-1674901800-1674914400@beadsandneeds.com
SUMMARY:Twin Bead Flat Spiral
DESCRIPTION:Twin Bead Flat Spiral Bracelet\nby NEDbeads\n \nDifficulty: Easy to Intermediate\nInstructor: Terry D.\nCost: $25 + Materials \nMaterials Needed (for 7″ bracelet):\nApx. 44 SuperDuos\n11/0 Seed Beads\n15/0 Seed Beads\nApx. 23 – 2.5mm Crystal Bicones\, Rondelles\, or substitute 11/0 Seed Beads if you wish\nClasp
URL:https://beadsandneeds.com/event/twin-bead-flat-spiral/
LOCATION:Beads & Needs\, Store Location 5154 Centennial Blvd\, Colorado Springs\, CO\, 80919\, United States
CATEGORIES:Classes
END:VEVENT
BEGIN:VEVENT
DTSTART;TZID=America/Denver:20230122T130000
DTEND;TZID=America/Denver:20230122T160000
DTSTAMP:20260419T230557
CREATED:20230101T205446Z
LAST-MODIFIED:20230101T205446Z
UID:1556-1674392400-1674403200@beadsandneeds.com
SUMMARY:Beaded Roses
DESCRIPTION:Beaded Roses \nLevel: Easy\nInstructor: Darcie M.\nCost: $35 -wire & tape will be provided \nMaterials Needed: 11/0 Seed Beads for leaves & flower petals
URL:https://beadsandneeds.com/event/beaded-roses/
LOCATION:Beads & Needs\, Store Location 5154 Centennial Blvd\, Colorado Springs\, CO\, 80919\, United States
CATEGORIES:Classes,Home Page Feature
ATTACH;FMTTYPE=image/jpeg:https://beadsandneeds.com/wp-content/uploads/2023/01/20230101_125530-e1672606322535.jpg
END:VEVENT
BEGIN:VEVENT
DTSTART;TZID=America/Denver:20230121T103000
DTEND;TZID=America/Denver:20230121T143000
DTSTAMP:20260419T230557
CREATED:20230115T222915Z
LAST-MODIFIED:20230115T222915Z
UID:1580-1674297000-1674311400@beadsandneeds.com
SUMMARY:Vintage Rosettes Bracelet
DESCRIPTION:Vintage Rosettes Bracelet\nby Szidonia Petki\n \nDifficulty: Intermediate\nInstructor: Jeannine D.\nCost: $25 + Materials \n  \nMaterials: (for 7 1/8 inch bracelet)\n3 – 14mm Crystal Rivolis\n6g SuperDuos\n54 – 4mm Bicones\n64 – 3mm Bicones\n11/0 Seed Beads\n15/0 Seed Beads (2 colors)\nClasp\n4 or 6mm Jump Rings\nFireline (4 or 6lb)
URL:https://beadsandneeds.com/event/vintage-rosettes-bracelet/
LOCATION:Beads & Needs\, Store Location 5154 Centennial Blvd\, Colorado Springs\, CO\, 80919\, United States
CATEGORIES:Classes
END:VEVENT
BEGIN:VEVENT
DTSTART;TZID=America/Denver:20230114T103000
DTEND;TZID=America/Denver:20230114T140000
DTSTAMP:20260419T230557
CREATED:20230101T204627Z
LAST-MODIFIED:20230101T204710Z
UID:1553-1673692200-1673704800@beadsandneeds.com
SUMMARY:Embellished Right Angle Weave Wrap
DESCRIPTION:Embellished Right Angle Weave Wrap \nLevel: Easy\nInstructor: Terry D.\nCost: $25 + Materials \nMaterials Needed:\nRondelle Beads (apx. 3x4mm\, or 4x6mm)\, 11/0 Seed Beads\, Small Drops for the edging\, Clasp/Button\, Fireline/Wildfire\, needle
URL:https://beadsandneeds.com/event/embellished-right-angle-weave-wrap/
LOCATION:Beads & Needs\, Store Location 5154 Centennial Blvd\, Colorado Springs\, CO\, 80919\, United States
CATEGORIES:Classes
ATTACH;FMTTYPE=image/jpeg:https://beadsandneeds.com/wp-content/uploads/2023/01/EmbRAW1.jpg
END:VEVENT
BEGIN:VEVENT
DTSTART;TZID=America/Denver:20230107T103000
DTEND;TZID=America/Denver:20230107T143000
DTSTAMP:20260419T230557
CREATED:20221211T164333Z
LAST-MODIFIED:20230106T212825Z
UID:1530-1673087400-1673101800@beadsandneeds.com
SUMMARY:Skyreholme Pendant by Michelle Snyder
DESCRIPTION:The accompanying piece to the Skyreholme bracelet\,\nthis pendant features a 24mm cabochon\, surrounded by ZoliDuos\, DropDuos\, Crystal Bicones\, & Seed Beads. \nLevel: Intermediate\nInstructor: Jeannine D.\nCost: $25 + Materials \nMaterials List:\n1 – 24mm Cabochon\n10 – Left Zoliduo beads\n10 – 4mm bicones\n10 – 6x3mm Dropduo beads\n10 – 3mm pearls or round beads\nSize 15 seed beads\nSize 11 seed beads\nSize 11 Delica beads\n6lb Fireline beading thread\nSize 11 beading needle
URL:https://beadsandneeds.com/event/skyreholme-pendant-by-michelle-snyder/
LOCATION:Beads & Needs\, Store Location 5154 Centennial Blvd\, Colorado Springs\, CO\, 80919\, United States
CATEGORIES:Classes
ATTACH;FMTTYPE=image/jpeg:https://beadsandneeds.com/wp-content/uploads/2022/12/20221209_160143.jpg
END:VEVENT
BEGIN:VEVENT
DTSTART;TZID=America/Denver:20221231T140000
DTEND;TZID=America/Denver:20221231T180000
DTSTAMP:20260419T230557
CREATED:20221204T225055Z
LAST-MODIFIED:20221204T225055Z
UID:1534-1672495200-1672509600@beadsandneeds.com
SUMMARY:End of the Year Bead Swap!
DESCRIPTION:Got some beads\, but forgot what you bought them for?\nLost interest in a project you were thinking about\, but had already bought the supplies?\nHave too many project leftovers?\nJust want something different? \nWell\, lucky for you\, we’re having a Bead Swap!\nBring any beads\, findings\, or other little treasures that you don’t know what to do with\, to the store on Saturday\, December 31st & trade stuff with your fellow beaders.\nStart the new year off with a new stash!
URL:https://beadsandneeds.com/event/end-of-the-year-bead-swap/
LOCATION:Beads & Needs\, Store Location 5154 Centennial Blvd\, Colorado Springs\, CO\, 80919\, United States
CATEGORIES:Home Page Feature
ATTACH;FMTTYPE=image/jpeg:https://beadsandneeds.com/wp-content/uploads/2022/12/GlassBeads.jpg
END:VEVENT
BEGIN:VEVENT
DTSTART;TZID=America/Denver:20221217T103000
DTEND;TZID=America/Denver:20221217T143000
DTSTAMP:20260419T230557
CREATED:20221202T191035Z
LAST-MODIFIED:20221202T191035Z
UID:1526-1671273000-1671287400@beadsandneeds.com
SUMMARY:Bluebell Bracelet from Linda's Crafty Inspirations
DESCRIPTION:Bluebell Bracelet in Purple & Gold \nThis bracelet from Linda’s Crafty Inspirations (https://craftyinspirationbylinda.blogspot.com/)\, uses SuperDuos\, DiamonDuos/GemDuos\, O Beads\, & Seed Beads. \nInstructor: Terry D.\nCost: $25 + Materials\nLevel: Easy
URL:https://beadsandneeds.com/event/bluebell-bracelet-from-lindas-crafty-inspirations/
LOCATION:Beads & Needs\, Store Location 5154 Centennial Blvd\, Colorado Springs\, CO\, 80919\, United States
CATEGORIES:Classes
ATTACH;FMTTYPE=image/jpeg:https://beadsandneeds.com/wp-content/uploads/2022/12/Bracelet-Bluebell2.jpg
END:VEVENT
BEGIN:VEVENT
DTSTART;TZID=America/Denver:20221210T100000
DTEND;TZID=America/Denver:20221210T170000
DTSTAMP:20260419T230557
CREATED:20221105T180023Z
LAST-MODIFIED:20221207T211824Z
UID:1514-1670666400-1670691600@beadsandneeds.com
SUMMARY:Bouquet by Nancy Cain
DESCRIPTION:Due to the busy holiday season\, this class has been canceled. No future class date has been set at this time.\nBouquet\nNancy Cain © 2022\n \nReceiving a bouquet of cascading flowers is delightful and fun. Something that expresses affection for the recipient. My impressionistic rings look like little flowers. The techniques used are circular peyote with Pinch-in-the-Ditch. Pinch-in-the-Ditch is a sister-stitch to Stitch-in-the-Ditch. Stitch-in-the-Ditch makes a 90-degree angle off the beadwork\, while Pinch-in-the-Ditch makes a 45-degree angle. The rope are loops of varying counts using 4mm pearls. \nInstructor: Nancy Cain\nCost: $95 (Materials Not Included)
URL:https://beadsandneeds.com/event/bouquet-by-nancy-cain/
CATEGORIES:Classes,Home Page Feature
ATTACH;FMTTYPE=image/jpeg:https://beadsandneeds.com/wp-content/uploads/2022/11/canceled.jpg
END:VEVENT
BEGIN:VEVENT
DTSTART;TZID=America/Denver:20221203T103000
DTEND;TZID=America/Denver:20221203T143000
DTSTAMP:20260419T230557
CREATED:20221105T172014Z
LAST-MODIFIED:20221105T172014Z
UID:1500-1670063400-1670077800@beadsandneeds.com
SUMMARY:Skyreholme Bracelet by Michelle Snyder
DESCRIPTION:Instructor: Jeannine D.\nCost: $30 (Materials not included)
URL:https://beadsandneeds.com/event/skyreholme-bracelet-by-michelle-snyder/
LOCATION:Beads & Needs\, Store Location 5154 Centennial Blvd\, Colorado Springs\, CO\, 80919\, United States
CATEGORIES:Classes
ATTACH;FMTTYPE=image/jpeg:https://beadsandneeds.com/wp-content/uploads/2022/11/20221104_175224.jpg
END:VEVENT
BEGIN:VEVENT
DTSTART;TZID=America/Denver:20221126T100000
DTEND;TZID=America/Denver:20221126T180000
DTSTAMP:20260419T230557
CREATED:20221105T173510Z
LAST-MODIFIED:20221105T173510Z
UID:1507-1669456800-1669485600@beadsandneeds.com
SUMMARY:Open Beading Day
DESCRIPTION:No class this week; we’re having an open beading day. \nGot a project you’re working on & need a little advice?\nBring it in\, we’ll see if we can help! \nLooking for a new project -we can help with that\, too!\nWe have the kits\, magazines\, & books available to find the right project for you. \nWant to just bead & chat?\nOur tables are always open for that!
URL:https://beadsandneeds.com/event/open-beading-day-2/
LOCATION:Beads & Needs\, Store Location 5154 Centennial Blvd\, Colorado Springs\, CO\, 80919\, United States
CATEGORIES:Classes
ATTACH;FMTTYPE=image/webp:https://beadsandneeds.com/wp-content/uploads/2022/11/IMG_3160.webp
END:VEVENT
BEGIN:VEVENT
DTSTART;TZID=America/Denver:20221119T103000
DTEND;TZID=America/Denver:20221119T140000
DTSTAMP:20260419T230557
CREATED:20221106T191336Z
LAST-MODIFIED:20221106T191336Z
UID:1521-1668853800-1668866400@beadsandneeds.com
SUMMARY:Floating Beads Necklace & Earring Set
DESCRIPTION:Beginner friendly class \nInstructor: Terry D.\nCost: $25 (Materials not included)\nTime: 10:30am-2pm \nMaterials List: Accuflex beading wire\, crimps\, clasp\, ear wires\, headpins\, assorted beads (whatever you like!)\nYou will also need flat & round pliers\, & wire cutters (we have some you can borrow\, if needed)
URL:https://beadsandneeds.com/event/floating-beads-necklace-earring-set/
LOCATION:Beads & Needs\, Store Location 5154 Centennial Blvd\, Colorado Springs\, CO\, 80919\, United States
CATEGORIES:Classes
ATTACH;FMTTYPE=image/jpeg:https://beadsandneeds.com/wp-content/uploads/2022/11/20221105_160906.jpg
END:VEVENT
BEGIN:VEVENT
DTSTART;TZID=America/Denver:20221112T103000
DTEND;TZID=America/Denver:20221112T143000
DTSTAMP:20260419T230557
CREATED:20221025T233754Z
LAST-MODIFIED:20221025T233754Z
UID:1488-1668249000-1668263400@beadsandneeds.com
SUMMARY:Cobblestone Band
DESCRIPTION:Cobblestone Band\nby Deborah Roberti \n \nInstructor: Terry D.\nCost: $25 (Materials not included)
URL:https://beadsandneeds.com/event/cobblestone-band/
LOCATION:Beads & Needs\, Store Location 5154 Centennial Blvd\, Colorado Springs\, CO\, 80919\, United States
CATEGORIES:Classes
ATTACH;FMTTYPE=image/jpeg:https://beadsandneeds.com/wp-content/uploads/2022/10/CbbstnBand.jpg
END:VEVENT
BEGIN:VEVENT
DTSTART;TZID=America/Denver:20221106T100000
DTEND;TZID=America/Denver:20221106T180000
DTSTAMP:20260419T230557
CREATED:20221102T164120Z
LAST-MODIFIED:20221105T180042Z
UID:1496-1667728800-1667757600@beadsandneeds.com
SUMMARY:First Sunday Sale!
DESCRIPTION:First Sunday Sale\nSunday\, Nov. 6\, 2022\n10:00AM – 6:00PM\nIn case you missed it\, our hours/days have changed.\nWe’re now open Wednesdays-Sundays\, 10am-6pm.\nWe’re closed on Mondays & Tuesdays. \nTo celebrate our first Sunday open\, we’ve marked select items up to 50% off!\nWhat’s on sale? Look for the butterflies\, they’ll tell you.\nSee a purple butterfly on something -that’s 50% off\nBlue is 30% off\nPink is 20% off \nSo\, stop in on Sunday & catch some butterflies!
URL:https://beadsandneeds.com/event/first-sunday-sale/
LOCATION:Beads & Needs\, Store Location 5154 Centennial Blvd\, Colorado Springs\, CO\, 80919\, United States
CATEGORIES:Bargain Day,Home Page Feature
ATTACH;FMTTYPE=image/jpeg:https://beadsandneeds.com/wp-content/uploads/2022/11/butterflysale.jpg
END:VEVENT
BEGIN:VEVENT
DTSTART;TZID=America/Denver:20221105T103000
DTEND;TZID=America/Denver:20221105T143000
DTSTAMP:20260419T230557
CREATED:20221025T233158Z
LAST-MODIFIED:20221025T233158Z
UID:1484-1667644200-1667658600@beadsandneeds.com
SUMMARY:Crystal Lace Necklace
DESCRIPTION:Crystal Lace Necklace\nby Deborah Roberti \n \nInstructor: Jeannine D.\nCost: $25 (Materials not included)
URL:https://beadsandneeds.com/event/crystal-lace-necklace/
LOCATION:Beads & Needs\, Store Location 5154 Centennial Blvd\, Colorado Springs\, CO\, 80919\, United States
CATEGORIES:Classes
ATTACH;FMTTYPE=image/jpeg:https://beadsandneeds.com/wp-content/uploads/2022/10/20221025_171716.jpg
END:VEVENT
BEGIN:VEVENT
DTSTART;TZID=America/Denver:20221029T100000
DTEND;TZID=America/Denver:20221029T180000
DTSTAMP:20260419T230557
CREATED:20221019T200558Z
LAST-MODIFIED:20221025T234826Z
UID:1469-1667037600-1667066400@beadsandneeds.com
SUMMARY:Open Beading Day
DESCRIPTION:No class this week\, so we’re having an open beading day. \nGot a project you’re working on & need a little advice?\nBring it in\, we’ll see if we can help! \nLooking for a new project -we can help with that\, too!\nWe have the kits\, magazines\, & books available to find the right project for you. \nWant to just bead & chat?\nOur tables are always open for that!
URL:https://beadsandneeds.com/event/open-beading-day/
LOCATION:Beads & Needs\, Store Location 5154 Centennial Blvd\, Colorado Springs\, CO\, 80919\, United States
CATEGORIES:Home Page Feature
ATTACH;FMTTYPE=image/jpeg:https://beadsandneeds.com/wp-content/uploads/2022/10/wip1.jpg
END:VEVENT
BEGIN:VEVENT
DTSTART;TZID=America/Denver:20221022T103000
DTEND;TZID=America/Denver:20221022T143000
DTSTAMP:20260419T230557
CREATED:20221019T194925Z
LAST-MODIFIED:20221019T194926Z
UID:1460-1666434600-1666449000@beadsandneeds.com
SUMMARY:Beaded Spiders
DESCRIPTION:Add a little bling to spooky season!\nJoin Shane S. this week to make one of these awesome\, beaded spiders. \nDate: Saturday\, October 22\, 2022\nTime: 10:30-2:30\nCost: $30 -Some wire & materials will be included \nMaterials Needed: Round nose pliers\, Flat nose pliers\, Side cutters\, & a variety of beads -whatever you like \n(We do have some pliers/cutters available for class\, if needed.)
URL:https://beadsandneeds.com/event/beaded-spiders/
LOCATION:Beads & Needs\, Store Location 5154 Centennial Blvd\, Colorado Springs\, CO\, 80919\, United States
CATEGORIES:Classes,Home Page Feature
ATTACH;FMTTYPE=image/jpeg:https://beadsandneeds.com/wp-content/uploads/2022/10/20210923_131912-1.jpg
END:VEVENT
BEGIN:VEVENT
DTSTART;TZID=America/Denver:20221008T103000
DTEND;TZID=America/Denver:20221008T143000
DTSTAMP:20260419T230557
CREATED:20220917T183441Z
LAST-MODIFIED:20220917T183441Z
UID:1440-1665225000-1665239400@beadsandneeds.com
SUMMARY:Mosaic Band by Deb Roberti
DESCRIPTION:Mosaic Band designed by Deb Roberti\n& taught by Terry D. \nDate: Saturday\, October 8\, 2022\nTime: 10:30-2:30\nCost: $25 (Materials not included) \nMaterials Needed: Thing band- 6lb Fireline\, 11/0 seed beads\, 8/0 seed beads\, ~68 Color1 Half Tila beads\, ~17 Color2 Half Tila beads\, clasp\nWide band- 6lb Fireline\, 11/0 seed beads\, 8/0 seed beads\, ~64 Tila beads\, ~48 Color1 Half Tila beads\, ~40 Color2 Half Tila beads\, clasp
URL:https://beadsandneeds.com/event/mosaic-band-by-deb-roberti/
LOCATION:Beads & Needs\, Store Location 5154 Centennial Blvd\, Colorado Springs\, CO\, 80919\, United States
CATEGORIES:Classes
ORGANIZER;CN="Beads & Needs":MAILTO:info@beadsandneeds.com
END:VEVENT
BEGIN:VEVENT
DTSTART;TZID=America/Denver:20221001T103000
DTEND;TZID=America/Denver:20221001T143000
DTSTAMP:20260419T230557
CREATED:20220917T182153Z
LAST-MODIFIED:20220917T182153Z
UID:1435-1664620200-1664634600@beadsandneeds.com
SUMMARY:Annabelle Pendant by Michelle Snyder
DESCRIPTION:Annabelle Pendant designed by Michelle Snyder\n& taught by Jeanine D. \nDate: Saturday\, October 1\, 2022\nTime: 10:30-2:30\nCost: $30 (materials not included) \nMaterials Needed: 24mm Cabochon\, 18 size 3mm pearls\, 18 size 4mm pearls\, 19 size 3mm bicone crystals\, 11x8mm drop pearl/crystal\, 15/0 seed beads\, 11/0 seed beads\, 6lb Fireline
URL:https://beadsandneeds.com/event/annabelle-pendant-by-michelle-snyder/
LOCATION:Beads & Needs\, Store Location 5154 Centennial Blvd\, Colorado Springs\, CO\, 80919\, United States
CATEGORIES:Classes
ATTACH;FMTTYPE=image/jpeg:https://beadsandneeds.com/wp-content/uploads/2022/09/20220917_113817.jpg
ORGANIZER;CN="Beads & Needs":MAILTO:info@beadsandneeds.com
END:VEVENT
BEGIN:VEVENT
DTSTART;TZID=America/Denver:20220924T103000
DTEND;TZID=America/Denver:20220924T143000
DTSTAMP:20260419T230557
CREATED:20220917T180826Z
LAST-MODIFIED:20220917T183819Z
UID:1428-1664015400-1664029800@beadsandneeds.com
SUMMARY:Blossom Bracelet by Deb Roberti
DESCRIPTION:Blossom Bracelet designed by Deb Roberti\n& taught by Terry D. \nDate: Saturday\, Sept. 24\, 2022\nTime: 10:30-2:30\nCost: $30 (materials not included) \nMaterials Needed: 6lb Fireline\, 11/0 seed beads\, ~44 size 4mm bicone crystals\, ~42 size 4mm round beads\, clasp
URL:https://beadsandneeds.com/event/blossom-bracelet-by-deb-roberti/
LOCATION:Beads & Needs\, Store Location 5154 Centennial Blvd\, Colorado Springs\, CO\, 80919\, United States
CATEGORIES:Classes
ORGANIZER;CN="Beads & Needs":MAILTO:info@beadsandneeds.com
END:VEVENT
BEGIN:VEVENT
DTSTART;TZID=America/Denver:20220917T100000
DTEND;TZID=America/Denver:20220917T170000
DTSTAMP:20260419T230557
CREATED:20220824T000655Z
LAST-MODIFIED:20220824T001452Z
UID:1417-1663408800-1663434000@beadsandneeds.com
SUMMARY:BohoChic by Nancy Cain
DESCRIPTION:BohoChic by\nNancy Cain © 2022 \nOne Day workshop\nDate: Saturday\, Sept. 17\, 2022\nTime: 10AM-5PM\nCost: $90\nMaterials not included
URL:https://beadsandneeds.com/event/1417/
LOCATION:Beads & Needs\, Store Location 5154 Centennial Blvd\, Colorado Springs\, CO\, 80919\, United States
CATEGORIES:Classes,Home Page Feature
ATTACH;FMTTYPE=image/jpeg:https://beadsandneeds.com/wp-content/uploads/2022/08/BohoCover.jpg
END:VEVENT
BEGIN:VEVENT
DTSTART;TZID=America/Denver:20220903T103000
DTEND;TZID=America/Denver:20220903T143000
DTSTAMP:20260419T230557
CREATED:20220823T221142Z
LAST-MODIFIED:20220824T001147Z
UID:1411-1662201000-1662215400@beadsandneeds.com
SUMMARY:Hampton Court Pendant
DESCRIPTION:Hampton Court Pendant by Michelle Snyder\nInstructed by Mary D. \nDate: Saturday\, Sept. 3\, 2022\nTime: 10:30AM – 2:30PM\nCost: $30\n(Materials not included) \n 
URL:https://beadsandneeds.com/event/hampton-court-pendant/
LOCATION:Beads & Needs\, Store Location 5154 Centennial Blvd\, Colorado Springs\, CO\, 80919\, United States
CATEGORIES:Classes
ATTACH;FMTTYPE=image/jpeg:https://beadsandneeds.com/wp-content/uploads/2022/08/20220823_153315-1.jpg
ORGANIZER;CN="Beads & Needs":MAILTO:info@beadsandneeds.com
END:VEVENT
BEGIN:VEVENT
DTSTART;TZID=America/Denver:20220827T103000
DTEND;TZID=America/Denver:20220827T143000
DTSTAMP:20260419T230557
CREATED:20220802T224659Z
LAST-MODIFIED:20220802T224659Z
UID:1396-1661596200-1661610600@beadsandneeds.com
SUMMARY:Tila Curve II Bracelet by Deborah Roberti
DESCRIPTION:Instructor: Terry Durham \nCost: $30 \nClass Size: 7/10 \nMaterials Needed: \n\n6lb Fireline\nApx. 150 size 11 seed beads\nApx. 72 size 3mm beads (fire-polished\, bicone\, round\, Chinese crystal\, etc)\nApx. 40 Half Tila beads\nApx. 14 Tila beads\nclasp
URL:https://beadsandneeds.com/event/tila-curve-ii-bracelet-by-deborah-roberti/
LOCATION:Beads & Needs\, Store Location 5154 Centennial Blvd\, Colorado Springs\, CO\, 80919\, United States
CATEGORIES:Classes
ATTACH;FMTTYPE=image/bmp:https://beadsandneeds.com/wp-content/uploads/2022/08/TilaCurveII.bmp
END:VEVENT
END:VCALENDAR