BEGIN:VCALENDAR
VERSION:2.0
PRODID:-//Beads &amp; Needs - ECPv6.15.0.1//NONSGML v1.0//EN
CALSCALE:GREGORIAN
METHOD:PUBLISH
X-WR-CALNAME:Beads &amp; Needs
X-ORIGINAL-URL:https://beadsandneeds.com
X-WR-CALDESC:Events for Beads &amp; Needs
REFRESH-INTERVAL;VALUE=DURATION:PT1H
X-Robots-Tag:noindex
X-PUBLISHED-TTL:PT1H
BEGIN:VTIMEZONE
TZID:America/Denver
BEGIN:DAYLIGHT
TZOFFSETFROM:-0700
TZOFFSETTO:-0600
TZNAME:MDT
DTSTART:20210314T090000
END:DAYLIGHT
BEGIN:STANDARD
TZOFFSETFROM:-0600
TZOFFSETTO:-0700
TZNAME:MST
DTSTART:20211107T080000
END:STANDARD
BEGIN:DAYLIGHT
TZOFFSETFROM:-0700
TZOFFSETTO:-0600
TZNAME:MDT
DTSTART:20220313T090000
END:DAYLIGHT
BEGIN:STANDARD
TZOFFSETFROM:-0600
TZOFFSETTO:-0700
TZNAME:MST
DTSTART:20221106T080000
END:STANDARD
END:VTIMEZONE
BEGIN:VEVENT
DTSTART;TZID=America/Denver:20220312T103000
DTEND;TZID=America/Denver:20220312T143000
DTSTAMP:20260420T010531
CREATED:20220309T231230Z
LAST-MODIFIED:20220311T231754Z
UID:1250-1647081000-1647095400@beadsandneeds.com
SUMMARY:Bowtie
DESCRIPTION:“Bowtie” by Deb Roberti!\nSaturday\, March 12th 10:30 am to 2:30 pm.\nClass is $25.00. Materials not included.\nCall (719)599-3300 to register.
URL:https://beadsandneeds.com/event/bowtie/
LOCATION:Beads & Needs\, Store Location 5154 Centennial Blvd\, Colorado Springs\, CO\, 80919\, United States
CATEGORIES:Classes
ATTACH;FMTTYPE=image/jpeg:https://beadsandneeds.com/wp-content/uploads/2022/03/BowTieRevised.jpg
ORGANIZER;CN="Beads & Needs":MAILTO:info@beadsandneeds.com
END:VEVENT
BEGIN:VEVENT
DTSTART;TZID=America/Denver:20220312T100000
DTEND;TZID=America/Denver:20220312T160000
DTSTAMP:20260420T010531
CREATED:20211022T160817Z
LAST-MODIFIED:20220309T233102Z
UID:1138-1647079200-1647100800@beadsandneeds.com
SUMMARY:Trunk Show!
DESCRIPTION:Trunk Show coming up! Check back for more information.
URL:https://beadsandneeds.com/event/4th-annual-craft-fair-2/
LOCATION:Beads & Needs\, Store Location 5154 Centennial Blvd\, Colorado Springs\, CO\, 80919\, United States
CATEGORIES:Home Page Feature
ORGANIZER;CN="Beads & Needs":MAILTO:info@beadsandneeds.com
END:VEVENT
BEGIN:VEVENT
DTSTART;VALUE=DATE:20220303
DTEND;VALUE=DATE:20220304
DTSTAMP:20260420T010531
CREATED:20211215T000116Z
LAST-MODIFIED:20211215T000145Z
UID:1170-1646265600-1646351999@beadsandneeds.com
SUMMARY:Bargain Day in March!
DESCRIPTION:The first Thursday of each month. \n20% off\n(excluding classes and consignments)
URL:https://beadsandneeds.com/event/bargain-day-in-march/
CATEGORIES:Bargain Day
END:VEVENT
BEGIN:VEVENT
DTSTART;TZID=America/Denver:20220220T103000
DTEND;TZID=America/Denver:20220220T143000
DTSTAMP:20260420T010531
CREATED:20220211T175000Z
LAST-MODIFIED:20220309T230219Z
UID:1206-1645353000-1645367400@beadsandneeds.com
SUMMARY:"Peas in a pod" Bracelet by Laina Goodman
DESCRIPTION:It’s a Bead*a*long with Lori.\n“Peas in a pod” Bracelet by Laina Goodman.\nSaturday\, February 26th.  10:30 am to 2:30 pm.\nClass is $25.00.  Materials not included
URL:https://beadsandneeds.com/event/peas-in-a-pod-bracelet-by-laina-goodman/
LOCATION:Beads & Needs\, Store Location 5154 Centennial Blvd\, Colorado Springs\, CO\, 80919\, United States
CATEGORIES:Classes
ATTACH;FMTTYPE=image/jpeg:https://beadsandneeds.com/wp-content/uploads/2022/02/bead_a_long-scaled.jpg
END:VEVENT
BEGIN:VEVENT
DTSTART;TZID=America/Denver:20220219T100000
DTEND;TZID=America/Denver:20220219T143000
DTSTAMP:20260420T010531
CREATED:20220211T174510Z
LAST-MODIFIED:20220216T194646Z
UID:1204-1645264800-1645281000@beadsandneeds.com
SUMMARY:Learn how to make a faux leather bracelet with this unique polymer clay
DESCRIPTION:Learn how to make a faux leather bracelet with this unique polymer clay.\nWe will use Fimo brand Leather Effect clay to create a flexible\, snap closure bracelet with a clay cabochon.\nAll materials included but bring your own pasta machine if you have one.\n$40.\nClass is Saturday\, February 19th.  6 spots available.
URL:https://beadsandneeds.com/event/learn-how-to-make-a-faux-leather-bracelet-with-this-unique-polymer-clay/
LOCATION:Beads & Needs\, Store Location 5154 Centennial Blvd\, Colorado Springs\, CO\, 80919\, United States
CATEGORIES:Classes
ATTACH;FMTTYPE=image/jpeg:https://beadsandneeds.com/wp-content/uploads/2022/02/faux_leather_polymer_clay.jpg
ORGANIZER;CN="Beads & Needs":MAILTO:info@beadsandneeds.com
END:VEVENT
BEGIN:VEVENT
DTSTART;TZID=America/Denver:20220217T100000
DTEND;TZID=America/Denver:20220217T153000
DTSTAMP:20260420T010531
CREATED:20220211T175237Z
LAST-MODIFIED:20220211T175237Z
UID:1209-1645092000-1645111800@beadsandneeds.com
SUMMARY:Basketweaving with Kim G
DESCRIPTION:Basketweaving with Kim G.\nThursday\, February 17th.  10:00 am to 3:30 pm.\nContact the store for Basket Options and prices
URL:https://beadsandneeds.com/event/basketweaving-with-kim-g/
CATEGORIES:Classes
END:VEVENT
BEGIN:VEVENT
DTSTART;TZID=America/Denver:20220212T100000
DTEND;TZID=America/Denver:20220212T143000
DTSTAMP:20260420T010531
CREATED:20220211T174020Z
LAST-MODIFIED:20220211T174233Z
UID:1200-1644660000-1644676200@beadsandneeds.com
SUMMARY:"Mini Gem Duo" Bracelet by Deb Roberti and taught by Jeannine D
DESCRIPTION:“Mini Gem Duo” Bracelet by Deb Roberti and taught by Jeannine D. \nSaturday Feb.\, 12th. 10:00 am to 2:30 pm. \nClass is $25.00. Materials not included
URL:https://beadsandneeds.com/event/mini-gem-duo-bracelet-by-deb-roberti-and-taught-by-jeannine-d/
LOCATION:Beads & Needs\, Store Location 5154 Centennial Blvd\, Colorado Springs\, CO\, 80919\, United States
CATEGORIES:Classes
ATTACH;FMTTYPE=image/jpeg:https://beadsandneeds.com/wp-content/uploads/2022/02/mini_Gem_dou-scaled.jpg
ORGANIZER;CN="Beads & Needs":MAILTO:info@beadsandneeds.com
END:VEVENT
BEGIN:VEVENT
DTSTART;VALUE=DATE:20220203
DTEND;VALUE=DATE:20220204
DTSTAMP:20260420T010531
CREATED:20211214T235713Z
LAST-MODIFIED:20211215T000139Z
UID:1168-1643846400-1643932799@beadsandneeds.com
SUMMARY:Bargain Day in February!
DESCRIPTION:The first Thursday of each month. \n20% off\n(excluding classes and consignments)
URL:https://beadsandneeds.com/event/bargain-day-february/
CATEGORIES:Bargain Day
END:VEVENT
BEGIN:VEVENT
DTSTART;VALUE=DATE:20220106
DTEND;VALUE=DATE:20220107
DTSTAMP:20260420T010531
CREATED:20211021T153549Z
LAST-MODIFIED:20211215T001147Z
UID:1053-1641427200-1641513599@beadsandneeds.com
SUMMARY:Bargain Day in January!
DESCRIPTION:The first Thursday of each month. \n20% off\n(excluding classes and consignments)
URL:https://beadsandneeds.com/event/bargain-day/
LOCATION:Beads & Needs\, Store Location 5154 Centennial Blvd\, Colorado Springs\, CO\, 80919\, United States
CATEGORIES:Bargain Day
END:VEVENT
BEGIN:VEVENT
DTSTART;TZID=America/Denver:20211205T103000
DTEND;TZID=America/Denver:20211205T143000
DTSTAMP:20260420T010531
CREATED:20211019T211835Z
LAST-MODIFIED:20211117T170220Z
UID:820-1638700200-1638714600@beadsandneeds.com
SUMMARY:"Trestle" Bracelet
DESCRIPTION:Make this really pretty “Trestle” bracelet. Desgined by Deb Rpberti and taught by Terry D. 10:30 am to 2:30 pm. $25.00 for class\, materials not included.
URL:https://beadsandneeds.com/event/trestle-bracelet/
LOCATION:Beads & Needs\, Store Location 5154 Centennial Blvd\, Colorado Springs\, CO\, 80919\, United States
CATEGORIES:Classes
ATTACH;FMTTYPE=image/jpeg:https://beadsandneeds.com/wp-content/uploads/2021/10/Filigree-Dutchess.jpeg
ORGANIZER;CN="Beads & Needs":MAILTO:info@beadsandneeds.com
END:VEVENT
BEGIN:VEVENT
DTSTART;TZID=America/Denver:20211127T100000
DTEND;TZID=America/Denver:20211127T160000
DTSTAMP:20260420T010531
CREATED:20211022T153955Z
LAST-MODIFIED:20211117T170134Z
UID:1117-1638007200-1638028800@beadsandneeds.com
SUMMARY:4th Annual Craft Fair Saturday
DESCRIPTION:Just a few more days. Beads and Needs Craft Fair will be located at 5158 Centennial Blvd (just 2 spaces north of the store) Saturday 10 to 4 and Sunday 10 to 2. Come and see all the beautiful items.
URL:https://beadsandneeds.com/event/4th-annual-craft-fair/
CATEGORIES:Home Page Feature
ORGANIZER;CN="Beads & Needs":MAILTO:info@beadsandneeds.com
END:VEVENT
BEGIN:VEVENT
DTSTART;TZID=America/Denver:20211120T103000
DTEND;TZID=America/Denver:20211120T143000
DTSTAMP:20260420T010531
CREATED:20211019T205955Z
LAST-MODIFIED:20211117T170112Z
UID:799-1637404200-1637418600@beadsandneeds.com
SUMMARY:Filigree Dutchess Bracelet
DESCRIPTION:Designed by Bronzepony and taught by Jeannine D. \nClass is $25.00 materials not included.
URL:https://beadsandneeds.com/event/filigree-dutchess-bracelet/
LOCATION:Beads & Needs\, Store Location 5154 Centennial Blvd\, Colorado Springs\, CO\, 80919\, United States
CATEGORIES:Classes
ATTACH;FMTTYPE=image/jpeg:https://beadsandneeds.com/wp-content/uploads/2021/10/Trestle-Bracelet-scaled.jpeg
ORGANIZER;CN="Beads & Needs":MAILTO:info@beadsandneeds.com
END:VEVENT
BEGIN:VEVENT
DTSTART;TZID=America/Denver:20211024T080000
DTEND;TZID=America/Denver:20211024T170000
DTSTAMP:20260420T010531
CREATED:20211002T031702Z
LAST-MODIFIED:20211019T212413Z
UID:270-1635062400-1635094800@beadsandneeds.com
SUMMARY:Testing Event
DESCRIPTION:This event is a test to see how will this works.
URL:https://beadsandneeds.com/event/testing-event/
LOCATION:Beads & Needs\, Store Location 5154 Centennial Blvd\, Colorado Springs\, CO\, 80919\, United States
CATEGORIES:Classes
ORGANIZER;CN="Beads & Needs":MAILTO:info@beadsandneeds.com
END:VEVENT
END:VCALENDAR