BEGIN:VCALENDAR
VERSION:2.0
PRODID:-//Beads &amp; Needs - ECPv6.15.0.1//NONSGML v1.0//EN
CALSCALE:GREGORIAN
METHOD:PUBLISH
X-WR-CALNAME:Beads &amp; Needs
X-ORIGINAL-URL:https://beadsandneeds.com
X-WR-CALDESC:Events for Beads &amp; Needs
REFRESH-INTERVAL;VALUE=DURATION:PT1H
X-Robots-Tag:noindex
X-PUBLISHED-TTL:PT1H
BEGIN:VTIMEZONE
TZID:America/Denver
BEGIN:DAYLIGHT
TZOFFSETFROM:-0700
TZOFFSETTO:-0600
TZNAME:MDT
DTSTART:20210314T090000
END:DAYLIGHT
BEGIN:STANDARD
TZOFFSETFROM:-0600
TZOFFSETTO:-0700
TZNAME:MST
DTSTART:20211107T080000
END:STANDARD
END:VTIMEZONE
BEGIN:VEVENT
DTSTART;TZID=America/Denver:20211024T080000
DTEND;TZID=America/Denver:20211024T170000
DTSTAMP:20260420T031128
CREATED:20211002T031702Z
LAST-MODIFIED:20211019T212413Z
UID:270-1635062400-1635094800@beadsandneeds.com
SUMMARY:Testing Event
DESCRIPTION:This event is a test to see how will this works.
URL:https://beadsandneeds.com/event/testing-event/
LOCATION:Beads & Needs\, Store Location 5154 Centennial Blvd\, Colorado Springs\, CO\, 80919\, United States
CATEGORIES:Classes
ORGANIZER;CN="Beads & Needs":MAILTO:info@beadsandneeds.com
END:VEVENT
END:VCALENDAR