BEGIN:VCALENDAR
VERSION:2.0
PRODID:-//Beads &amp; Needs - ECPv6.15.0.1//NONSGML v1.0//EN
CALSCALE:GREGORIAN
METHOD:PUBLISH
X-ORIGINAL-URL:https://beadsandneeds.com
X-WR-CALDESC:Events for Beads &amp; Needs
REFRESH-INTERVAL;VALUE=DURATION:PT1H
X-Robots-Tag:noindex
X-PUBLISHED-TTL:PT1H
BEGIN:VTIMEZONE
TZID:America/Denver
BEGIN:DAYLIGHT
TZOFFSETFROM:-0700
TZOFFSETTO:-0600
TZNAME:MDT
DTSTART:20220313T090000
END:DAYLIGHT
BEGIN:STANDARD
TZOFFSETFROM:-0600
TZOFFSETTO:-0700
TZNAME:MST
DTSTART:20221106T080000
END:STANDARD
END:VTIMEZONE
BEGIN:VEVENT
DTSTART;VALUE=DATE:20220106
DTEND;VALUE=DATE:20220107
DTSTAMP:20260422T133613
CREATED:20211021T153549Z
LAST-MODIFIED:20211215T001147Z
UID:1053-1641427200-1641513599@beadsandneeds.com
SUMMARY:Bargain Day in January!
DESCRIPTION:The first Thursday of each month. \n20% off\n(excluding classes and consignments)
URL:https://beadsandneeds.com/event/bargain-day/
LOCATION:Beads & Needs\, Store Location 5154 Centennial Blvd\, Colorado Springs\, CO\, 80919\, United States
CATEGORIES:Bargain Day
END:VEVENT
END:VCALENDAR