BEGIN:VCALENDAR
VERSION:2.0
PRODID:-//Beads &amp; Needs - ECPv6.15.0.1//NONSGML v1.0//EN
CALSCALE:GREGORIAN
METHOD:PUBLISH
X-ORIGINAL-URL:https://beadsandneeds.com
X-WR-CALDESC:Events for Beads &amp; Needs
REFRESH-INTERVAL;VALUE=DURATION:PT1H
X-Robots-Tag:noindex
X-PUBLISHED-TTL:PT1H
BEGIN:VTIMEZONE
TZID:America/Denver
BEGIN:DAYLIGHT
TZOFFSETFROM:-0700
TZOFFSETTO:-0600
TZNAME:MDT
DTSTART:20220313T090000
END:DAYLIGHT
BEGIN:STANDARD
TZOFFSETFROM:-0600
TZOFFSETTO:-0700
TZNAME:MST
DTSTART:20221106T080000
END:STANDARD
END:VTIMEZONE
BEGIN:VEVENT
DTSTART;VALUE=DATE:20220804
DTEND;VALUE=DATE:20220805
DTSTAMP:20260422T015956
CREATED:20211215T000731Z
LAST-MODIFIED:20220621T150948Z
UID:1181-1659571200-1659657599@beadsandneeds.com
SUMMARY:Bargain Day in August!
DESCRIPTION:The first Thursday of each month. \n20% off\n(excluding classes and consignments)
URL:https://beadsandneeds.com/event/bargain-day-in-august/
CATEGORIES:Bargain Day
END:VEVENT
BEGIN:VEVENT
DTSTART;TZID=America/Denver:20220806T103000
DTEND;TZID=America/Denver:20220806T143000
DTSTAMP:20260422T015956
CREATED:20220802T221156Z
LAST-MODIFIED:20220802T222028Z
UID:1382-1659781800-1659796200@beadsandneeds.com
SUMMARY:Pebbled Bracelet by Deborah Roberti
DESCRIPTION:  \nInstructor: Mary Debowey \nCost: $30 \nClass size: 2/10 \nMaterials Needed: \n\nApx. 5 yds of 6lb Fireline\nApx. 550 size 11 seed beads\n67 size 4mm bicones (or 4mm fire-polished beads)\nApx. 104 size 4mm glass pearls (or 4mm druks/round beads)\nClasp
URL:https://beadsandneeds.com/event/pebbled-bracelet-by-deborah-roberti/
LOCATION:Beads & Needs\, Store Location 5154 Centennial Blvd\, Colorado Springs\, CO\, 80919\, United States
CATEGORIES:Classes
ATTACH;FMTTYPE=image/bmp:https://beadsandneeds.com/wp-content/uploads/2022/08/Pebbled.bmp
END:VEVENT
BEGIN:VEVENT
DTSTART;TZID=America/Denver:20220813T103000
DTEND;TZID=America/Denver:20220813T143000
DTSTAMP:20260422T015956
CREATED:20220802T223421Z
LAST-MODIFIED:20220802T223421Z
UID:1389-1660386600-1660401000@beadsandneeds.com
SUMMARY:Highland Lace by Michelle Snyder
DESCRIPTION:Instructor: Mary Debowey \nCost: $30 \nClass Size: 7/10 \nMaterials Needed: \n\n4mm round beads or pearls\n2.5x5mm Superduo beads\n3mm round beads or pearls\nSize 15 seed beads\n1 clasp\n2 jump rings\n6lb Fireline\nSize 11 beading needle
URL:https://beadsandneeds.com/event/highland-lace-by-michelle-snyder/
LOCATION:Beads & Needs\, Store Location 5154 Centennial Blvd\, Colorado Springs\, CO\, 80919\, United States
CATEGORIES:Classes
ATTACH;FMTTYPE=image/bmp:https://beadsandneeds.com/wp-content/uploads/2022/08/HighlandLace.bmp
END:VEVENT
BEGIN:VEVENT
DTSTART;TZID=America/Denver:20220820T100000
DTEND;TZID=America/Denver:20220820T180000
DTSTAMP:20260422T015956
CREATED:20220818T223211Z
LAST-MODIFIED:20220818T224400Z
UID:1403-1660989600-1661018400@beadsandneeds.com
SUMMARY:Open House
DESCRIPTION:Join us for an Open House Sale\, this Saturday\, August 20th!\nWe’re celebrating a new chapter for Beads & Needs\, so come join the party! \nSave 20% off Seed Beads\, Delicas\, & Chinese Crystals\nPlus\, BOGO on all our Bargain Bin items \nSpend $50 dollars & receive a free Mystery Bead Bag!
URL:https://beadsandneeds.com/event/open-house/
LOCATION:Beads & Needs\, Store Location 5154 Centennial Blvd\, Colorado Springs\, CO\, 80919\, United States
CATEGORIES:Home Page Feature
ATTACH;FMTTYPE=image/jpeg:https://beadsandneeds.com/wp-content/uploads/2022/08/OIP.jpg
ORGANIZER;CN="Beads & Needs":MAILTO:info@beadsandneeds.com
END:VEVENT
BEGIN:VEVENT
DTSTART;TZID=America/Denver:20220827T103000
DTEND;TZID=America/Denver:20220827T143000
DTSTAMP:20260422T015956
CREATED:20220802T224659Z
LAST-MODIFIED:20220802T224659Z
UID:1396-1661596200-1661610600@beadsandneeds.com
SUMMARY:Tila Curve II Bracelet by Deborah Roberti
DESCRIPTION:Instructor: Terry Durham \nCost: $30 \nClass Size: 7/10 \nMaterials Needed: \n\n6lb Fireline\nApx. 150 size 11 seed beads\nApx. 72 size 3mm beads (fire-polished\, bicone\, round\, Chinese crystal\, etc)\nApx. 40 Half Tila beads\nApx. 14 Tila beads\nclasp
URL:https://beadsandneeds.com/event/tila-curve-ii-bracelet-by-deborah-roberti/
LOCATION:Beads & Needs\, Store Location 5154 Centennial Blvd\, Colorado Springs\, CO\, 80919\, United States
CATEGORIES:Classes
ATTACH;FMTTYPE=image/bmp:https://beadsandneeds.com/wp-content/uploads/2022/08/TilaCurveII.bmp
END:VEVENT
END:VCALENDAR