BEGIN:VCALENDAR
VERSION:2.0
PRODID:-//Beads &amp; Needs - ECPv6.15.0.1//NONSGML v1.0//EN
CALSCALE:GREGORIAN
METHOD:PUBLISH
X-WR-CALNAME:Beads &amp; Needs
X-ORIGINAL-URL:https://beadsandneeds.com
X-WR-CALDESC:Events for Beads &amp; Needs
REFRESH-INTERVAL;VALUE=DURATION:PT1H
X-Robots-Tag:noindex
X-PUBLISHED-TTL:PT1H
BEGIN:VTIMEZONE
TZID:America/Denver
BEGIN:DAYLIGHT
TZOFFSETFROM:-0700
TZOFFSETTO:-0600
TZNAME:MDT
DTSTART:20230312T090000
END:DAYLIGHT
BEGIN:STANDARD
TZOFFSETFROM:-0600
TZOFFSETTO:-0700
TZNAME:MST
DTSTART:20231105T080000
END:STANDARD
END:VTIMEZONE
BEGIN:VEVENT
DTSTART;TZID=America/Denver:20230506T103000
DTEND;TZID=America/Denver:20230506T153000
DTSTAMP:20260421T105011
CREATED:20230426T181548Z
LAST-MODIFIED:20230505T201029Z
UID:1668-1683369000-1683387000@beadsandneeds.com
SUMMARY:Elena Bracelet
DESCRIPTION:Elena Bracelet\nby Yuliya Ablovich\n \nDifficulty: Intermediate (2-Needle Pattern)\nInstructor: Jeannine\nCost: $25 + Materials \nMaterials:\nTila Beads – can use 1 or 2 colors\nSuperDuos\nSize 15/0 Seed Beads\n6lb Fireline\n2 Beading Needles (Size 12 recommended)\nClasp
URL:https://beadsandneeds.com/event/elena-bracelet/
LOCATION:Beads & Needs\, Store Location 5154 Centennial Blvd\, Colorado Springs\, CO\, 80919\, United States
CATEGORIES:Classes
END:VEVENT
BEGIN:VEVENT
DTSTART;TZID=America/Denver:20230513T103000
DTEND;TZID=America/Denver:20230513T143000
DTSTAMP:20260421T105011
CREATED:20230409T010810Z
LAST-MODIFIED:20230505T200331Z
UID:1663-1683973800-1683988200@beadsandneeds.com
SUMMARY:Shell Pendant
DESCRIPTION:Beginner Bead Embroidery\nwith Julie\n \nDifficulty level: Beginner friendly\nInstructor: Julie\nCost: $25 +Materials \nMaterials Needed: (Instructor will have kits available for purchase which include the shell cabochon)\nOneG Thread\nBeading Needle\nThread Conditioner
URL:https://beadsandneeds.com/event/shell-pendant/
LOCATION:Beads & Needs\, Store Location 5154 Centennial Blvd\, Colorado Springs\, CO\, 80919\, United States
CATEGORIES:Classes
ATTACH;FMTTYPE=image/jpeg:https://beadsandneeds.com/wp-content/uploads/2023/04/20230407_123719.jpg
END:VEVENT
BEGIN:VEVENT
DTSTART;TZID=America/Denver:20230520T103000
DTEND;TZID=America/Denver:20230520T153000
DTSTAMP:20260421T105011
CREATED:20230426T184753Z
LAST-MODIFIED:20230505T203222Z
UID:1672-1684578600-1684596600@beadsandneeds.com
SUMMARY:Spotlight
DESCRIPTION:Spotlight Necklace & Earrings\nBy Deb Roberti\n \nDifficulty: Intermediate\nInstructor: Jeannine\nCost: $25 + Materials \nMaterials:\nSize 15/0 seed beads\nSize 11/0 seed beads\nDelicas (2 colors)\n53 – Size 4mm Bicones\n5 – size 12mm Rivoli Crystals\nClasp\nEarwires\nOptional Materials – Cymbal Sitia\, Pilos\, or other bead ending for earring embellishment\nDrop for center of necklace & for earrings
URL:https://beadsandneeds.com/event/spotlight/
LOCATION:Beads & Needs\, Store Location 5154 Centennial Blvd\, Colorado Springs\, CO\, 80919\, United States
CATEGORIES:Classes
ATTACH;FMTTYPE=image/jpeg:https://beadsandneeds.com/wp-content/uploads/2023/04/Spotlight1-e1683317533660.jpg
END:VEVENT
BEGIN:VEVENT
DTSTART;TZID=America/Denver:20230527T103000
DTEND;TZID=America/Denver:20230527T150000
DTSTAMP:20260421T105011
CREATED:20230524T193307Z
LAST-MODIFIED:20230524T193550Z
UID:1685-1685183400-1685199600@beadsandneeds.com
SUMMARY:Solitaire Bracelets by Deb Roberti
DESCRIPTION:This bracelet has two different versions: Embellished & Unembellished.\nYou choose which one you would like to make in class! \nDifficulty: Somewhat Easy\nInstructor: Terry\nCost: $25 + Materials \nMaterials Needed: \nUnembellished version –\nOne G Thread\, or 6lb Fireline\nClasp\nSize 11° Seed Beads\n~50 size 3mm Round or Firepolish beads\n~32 GemDuos or DiamonDuos \nFor Embellished version\, add –\n~42 MiniDuos or SuperDuos
URL:https://beadsandneeds.com/event/solitaire-bracelets-by-deb-roberti/
LOCATION:Beads & Needs\, Store Location 5154 Centennial Blvd\, Colorado Springs\, CO\, 80919\, United States
CATEGORIES:Classes
ATTACH;FMTTYPE=image/jpeg:https://beadsandneeds.com/wp-content/uploads/2023/05/Solitaire_GemDuo_WEB-e1684955751927.jpg
END:VEVENT
END:VCALENDAR