BEGIN:VCALENDAR
VERSION:2.0
PRODID:-//Beads &amp; Needs - ECPv6.15.0.1//NONSGML v1.0//EN
CALSCALE:GREGORIAN
METHOD:PUBLISH
X-ORIGINAL-URL:https://beadsandneeds.com
X-WR-CALDESC:Events for Beads &amp; Needs
REFRESH-INTERVAL;VALUE=DURATION:PT1H
X-Robots-Tag:noindex
X-PUBLISHED-TTL:PT1H
BEGIN:VTIMEZONE
TZID:America/Denver
BEGIN:DAYLIGHT
TZOFFSETFROM:-0700
TZOFFSETTO:-0600
TZNAME:MDT
DTSTART:20240310T090000
END:DAYLIGHT
BEGIN:STANDARD
TZOFFSETFROM:-0600
TZOFFSETTO:-0700
TZNAME:MST
DTSTART:20241103T080000
END:STANDARD
END:VTIMEZONE
BEGIN:VEVENT
DTSTART;TZID=America/Denver:20240302T103000
DTEND;TZID=America/Denver:20240303T170000
DTSTAMP:20260421T125016
CREATED:20240124T192633Z
LAST-MODIFIED:20240214T194925Z
UID:1874-1709375400-1709485200@beadsandneeds.com
SUMMARY:Sleeping Beauty Set by Poetry in Beads
DESCRIPTION:We’re hosting a 2-day tutorial for this pendant\, bracelet\, and earring set designed by Michelle Snyder of Poetry in Beads. Wearing this set will make you feel like royalty! \nDate: Saturday\, March 2nd & Sunday\, March 3rd\nInstructor: Jeannine\nTime: 10:30-5:00\nDifficulty: Intermediate\nCost: $50 for both days\, plus materials\nMaterials for Pendant:\n1 18mm Rivoli\n12 7mm 2-hole cabochons\n24 4mm round beads\n36 3mm round beads\n12 4mm bicones\nSize 11/0 Delica beads\nSize 11/0 seed beads\nSize 15/0 seed beads \nMaterials for Bracelet (amount will vary by length of bracelet):\n7mm 2-hole cabochons\n3mm round beads\n4mm round beads\n4mm bicones\nSize 11/0 seed beads\nSize 15/0 seed beads\nClasp\nJump rings \nMaterials for Earrings:\n2 7mm 2-hole cabochons\n16 4mm round beads\n16 3mm round beads\n8 4mm bicones\n2 drop beads (optional)\nSize 11/0 seed beads\nSize 15/0 seed beads\nEar wires
URL:https://beadsandneeds.com/event/sleeping-beauty-set-by-poetry-in-beads/
LOCATION:Beads & Needs\, Store Location 5154 Centennial Blvd\, Colorado Springs\, CO\, 80919\, United States
CATEGORIES:Classes
ATTACH;FMTTYPE=image/jpeg:https://beadsandneeds.com/wp-content/uploads/2024/01/sleeping-beauty-set.jpg
END:VEVENT
BEGIN:VEVENT
DTSTART;TZID=America/Denver:20240309T103000
DTEND;TZID=America/Denver:20240309T170000
DTSTAMP:20260421T125016
CREATED:20240222T234348Z
LAST-MODIFIED:20240223T002455Z
UID:2033-1709980200-1710003600@beadsandneeds.com
SUMMARY:Maple Bracelet by Yuliya Abelovich
DESCRIPTION:This bracelet designed by Yuliya Abelovich of Wonderful Jewelry Shop uses Honeycomb and Kite beads for links that fit together just right! \nDate: Saturday\, March 9th\nInstructor: Angela\nTime: 10:30-5:00\nDifficulty: Intermediate\nCost: $25\, plus materials \nMaterials:\nHoneycomb beads\nKite beads\n15/0 seed beads\n3mm round beads\n3mm Fire Polish beads\nFireline\nTwo needles\nClasp\nJump rings
URL:https://beadsandneeds.com/event/maple-bracelet-by-yuliya-abelovich/
CATEGORIES:Classes,Home Page Feature
ATTACH;FMTTYPE=image/jpeg:https://beadsandneeds.com/wp-content/uploads/2024/02/maple.jpg
END:VEVENT
BEGIN:VEVENT
DTSTART;TZID=America/Denver:20240316T103000
DTEND;TZID=America/Denver:20240316T150000
DTSTAMP:20260421T125016
CREATED:20240131T203101Z
LAST-MODIFIED:20240223T002433Z
UID:1889-1710585000-1710601200@beadsandneeds.com
SUMMARY:Snake Bracelet
DESCRIPTION:This clasp-free bracelet was designed in house\, right here at Beads & Needs! It uses elastic instead of a clasp for easy wear. This simple design allows for endless variations\, and is slinky enough to stack! \nDate: Saturday\, March 16th\nInstructor: Brandi\nTime: 10:30-3:00\nDifficulty: Beginner\nCost: $30\, material kit included \n  \n719.599.3300\nhttps://www.facebook.com/BeadsAndNeeds.ColoradoSprings
URL:https://beadsandneeds.com/event/snake-bracelet/
LOCATION:Beads & Needs\, Store Location 5154 Centennial Blvd\, Colorado Springs\, CO\, 80919\, United States
CATEGORIES:Classes,Home Page Feature
ATTACH;FMTTYPE=image/jpeg:https://beadsandneeds.com/wp-content/uploads/2024/01/snake.jpg
END:VEVENT
BEGIN:VEVENT
DTSTART;TZID=America/Denver:20240317T150000
DTEND;TZID=America/Denver:20240317T170000
DTSTAMP:20260421T125016
CREATED:20240223T002910Z
LAST-MODIFIED:20240223T002910Z
UID:2038-1710687600-1710694800@beadsandneeds.com
SUMMARY:Beginner Basics - Beaded Bracelet
DESCRIPTION:On March 17th\, we continue our beginner basics course! This time\, our project is a simple beaded bracelet. We’ll learn how to string beads onto elastic and get some practice by creating the piece – or pieces\, if time allows – which will be complete and wearable by the end of class!\nDate: Sunday\, March 17th\nInstructor: Brandi\nTime: 3:00-5:00\nDifficulty: Beginner\nCost: $20\, materials included\n\n\n\n\n\nIf you choose to bring your own materials\, you will need:\nSize 8/0 seed beads\nElastic
URL:https://beadsandneeds.com/event/beginner-basics-beaded-bracelet/
CATEGORIES:Classes,Home Page Feature
ATTACH;FMTTYPE=image/jpeg:https://beadsandneeds.com/wp-content/uploads/2024/02/stringing-project.jpg
END:VEVENT
BEGIN:VEVENT
DTSTART;TZID=America/Denver:20240323T103000
DTEND;TZID=America/Denver:20240323T150000
DTSTAMP:20260421T125016
CREATED:20240229T211113Z
LAST-MODIFIED:20240229T211233Z
UID:2044-1711189800-1711206000@beadsandneeds.com
SUMMARY:Faenza Beaded Bead
DESCRIPTION:This coreless beaded bead was designed by Nela Kábelová. It can be made narrower\, in a rondelle shape\, or a full round. Once complete\, you can string them directly onto chain – no further weaving needed!\n\n\n\nDate: Saturday\, March 23rd\nInstructor: Terry\nTime: 10:30-3:00\nDifficulty: Intermediate\nCost: $25\, plus materials\n\n\n\nMaterial (for one bead):\nMiniduo (approx. 2 grams)\nSuperduo ( approx. 2 grams)\n8/0 seed beads (approx. 1 grams)\n15/0 seed beads (approx. 1 gram)\n11/0 seed beads (approx. 2 grams)\nBeading needle and thread
URL:https://beadsandneeds.com/event/faenza-beaded-bead/
CATEGORIES:Classes
ATTACH;FMTTYPE=image/jpeg:https://beadsandneeds.com/wp-content/uploads/2024/02/beaded-bead.jpg
END:VEVENT
END:VCALENDAR